BEGIN:VCALENDAR
VERSION:2.0
PRODID:-//VILA - Blog - ECPv4.5.12.2//NONSGML v1.0//EN
CALSCALE:GREGORIAN
METHOD:PUBLISH
X-WR-CALNAME:VILA - Blog
X-ORIGINAL-URL:https://blog.livrariadavila.com.br
X-WR-CALDESC:Events for VILA - Blog
BEGIN:VEVENT
DTSTART;TZID=America/Sao_Paulo:20221108T190000
DTEND;TZID=America/Sao_Paulo:20221108T213000
DTSTAMP:20260424T040049
CREATED:20221101T135547Z
LAST-MODIFIED:20221101T135547Z
UID:115872-1667934000-1667943000@blog.livrariadavila.com.br
SUMMARY:O CASAMENTO ENTRE O CÉU E A TERRA: CONTOS DOS POVOS INDÍGENAS DO BRASIL (HAVERÁ BATE-PAPO COM A PRESENÇA DE DANIEL MUNDURUKU) - LEONARDO BOFF - ED. PLANETA
DESCRIPTION: \n  \n\n\n\n\nUma viagem pelas histórias originárias das cores dos peixes e das vozes dos pássaros\, da mandioca\, do guaraná\, das estrelas e do amor. Em O casamento entre o Céu e a Terra\, o professor\, teólogo\, filósofo\, escritor e grande defensor dos Direitos Humanos Leonardo Boff reúne histórias\, relatos e mitos originários dos indígenas do Brasil. Recolhidas ao longo dos anos e vindas de diversas etnias\, essas narrativas são prova da inestimável contribuição desses povos a nossa cultura\, nossa língua\, nossos costumes e nossa forma de compreender a natureza. Cada uma delas é capaz de nos conectar à sabedoria ancestral desses povos e somá-la\, enfim\, a nossa sabedoria contemporânea. “O livro que agora está em suas mãos\, caro leitor\, cara leitora\, é um importante instrumento para apresentar-lhe a visão indígena de interagir com a natureza. […] Leonardo Boff\, usando seu jeito amoroso\, vai nos conduzindo pelas narrativas apresentadas para nos proporcionar um olhar crítico\, mas também repleto de magia\, que ainda alimenta a vida de nossos povos originários.” – Daniel Munduruku “Revisitemos a sabedoria indígena e sonhemos\, por um momento\, os mesmos sonhos que eles sonharam. Vamos rir\, chorar e aprender. Aprender especialmente como casar Céu e Terra\, vale dizer\, como combinar o cotidiano com o surpreendente\, a imanência opaca dos dias com a transcendência radiosa do espírito\, a vida na plena liberdade com a morte como um unir-se com os ancestrais\, a felicidade discreta nesse neste mundo com a grande promessa na eternidade. E\, no termo\, teremos descoberto mil razões para viver mais e melhor\, todos juntos\, como uma grande família\, na mesma Aldeia Comum\, generosa e bela\, o planeta Terra.” – Leonardo Boff\n\n\n\n\n
URL:https://blog.livrariadavila.com.br/event/o-casamento-entre-o-ceu-e-a-terra-contos-dos-povos-indigenas-do-brasil-havera-bate-papo-com-a-presenca-de-daniel-munduruku-leonardo-boff-ed-planeta/
LOCATION:Av. Higienópolis\, 618 – Higienópolis\, São Paulo\, SP\, 01238-000\, Brasil
GEO:-23.542049;-46.6577148
X-APPLE-STRUCTURED-LOCATION;VALUE=URI;X-ADDRESS=Av. Higienópolis 618 – Higienópolis São Paulo SP 01238-000 Brasil;X-APPLE-RADIUS=500;X-TITLE=Av. Higienópolis\, 618 – Higienópolis:geo:-46.6577148,-23.542049
END:VEVENT
END:VCALENDAR