BEGIN:VCALENDAR
VERSION:2.0
PRODID:-//VILA - Blog - ECPv4.5.12.2//NONSGML v1.0//EN
CALSCALE:GREGORIAN
METHOD:PUBLISH
X-WR-CALNAME:VILA - Blog
X-ORIGINAL-URL:https://blog.livrariadavila.com.br
X-WR-CALDESC:Events for VILA - Blog
BEGIN:VEVENT
DTSTART;TZID=America/Sao_Paulo:20231018T180000
DTEND;TZID=America/Sao_Paulo:20231018T210000
DTSTAMP:20260419T133145
CREATED:20230915T182441Z
LAST-MODIFIED:20230915T182441Z
UID:119437-1697652000-1697662800@blog.livrariadavila.com.br
SUMMARY:O DESENVOLVIMENTO DOS DIREITOS HUMANOS DAS MULHERES NO BRASIL - LUISA D’AVOLA - ED. LUMEN JURIS
DESCRIPTION: \nEsse livro buscou demonstrar o papel do sistema interamericano de direitos humanos no combate à estrutural desigualdade de gênero enraizada em nossa sociedade. Primeiramente\, introduz-se de forma breve o processo de construção da mulher como sujeito de direitos e destaca-se a função do movimento feminista enquanto principal ator na luta e na efetivação dos direitos humanos das mulheres. Essa abordagem fundamenta a “perspectiva de gênero” aplicada para a análise do diálogo construído entre o sistema interamericano de direitos humanos e o Supremo Tribunal Federal. Para tanto\, teve como objeto de estudo os acórdãos proferidos em ambiente doméstico que congregaram a temática de gênero e aplicaram os parâmetros do sistema interamericano. Utilizou-se o método analítico\, com enfoque feminista e interseccional\, para debruçar-se sobre o material selecionado. Dentre os resultados encontrados\, conclui-se que o fortalecimento do diálogo jurisdicional entre o sistema interamericano e o sistema nacional e o diálogo com a sociedade civil fomentam uma proteção multinível dos direitos humanos. Com isso\, o sistema interamericano pode exercer um impacto transformador na proteção\, na efetivação e na expansão dos direitos\, com vistas a concretizar mudanças reais na vida das mulheres. \n
URL:https://blog.livrariadavila.com.br/event/o-desenvolvimento-dos-direitos-humanos-das-mulheres-no-brasil-luisa-davola-ed-lumen-juris/
LOCATION:Av. Higienópolis\, 618 – Higienópolis\, São Paulo\, SP\, 01238-000\, Brasil
GEO:-23.542049;-46.6577148
X-APPLE-STRUCTURED-LOCATION;VALUE=URI;X-ADDRESS=Av. Higienópolis 618 – Higienópolis São Paulo SP 01238-000 Brasil;X-APPLE-RADIUS=500;X-TITLE=Av. Higienópolis\, 618 – Higienópolis:geo:-46.6577148,-23.542049
END:VEVENT
END:VCALENDAR