BEGIN:VCALENDAR
VERSION:2.0
PRODID:-//VILA - Blog - ECPv4.5.12.2//NONSGML v1.0//EN
CALSCALE:GREGORIAN
METHOD:PUBLISH
X-WR-CALNAME:VILA - Blog
X-ORIGINAL-URL:https://blog.livrariadavila.com.br
X-WR-CALDESC:Events for VILA - Blog
BEGIN:VEVENT
DTSTART;TZID=America/Sao_Paulo:20250409T183000
DTEND;TZID=America/Sao_Paulo:20250409T213000
DTSTAMP:20260421T142536
CREATED:20250317T212739Z
LAST-MODIFIED:20250317T212739Z
UID:126615-1744223400-1744234200@blog.livrariadavila.com.br
SUMMARY:O DESPERTAR PARA UMA VIDA PLENA: A DECISÃO - ALESSANDRA SANTOS – ED. INDEPENDENTE
DESCRIPTION: \nNeste segundo livro\, a autora conta um pouco sobre a sua trajetória como empreendedora. Seus desafios\, métodos e maneiras que a levaram ao sucesso pessoal e profissional. \n
URL:https://blog.livrariadavila.com.br/event/o-despertar-para-uma-vida-plena-a-decisao-alessandra-santos-ed-independente/
LOCATION:Avenida do Batel\, nº 1868 – Loja 314 piso L3\, Curitiba\, Paraná\, 80420-090\, Brasil
GEO:-25.443012;-49.2899507
X-APPLE-STRUCTURED-LOCATION;VALUE=URI;X-ADDRESS=Avenida do Batel nº 1868 – Loja 314 piso L3 Curitiba Paraná 80420-090 Brasil;X-APPLE-RADIUS=500;X-TITLE=Avenida do Batel\, nº 1868 – Loja 314 piso L3:geo:-49.2899507,-25.443012
CATEGORIES:LANÇAMENTOS,SESSÕES DE AUTÓGRAFOS
END:VEVENT
END:VCALENDAR