BEGIN:VCALENDAR
VERSION:2.0
PRODID:-//VILA - Blog - ECPv4.5.12.2//NONSGML v1.0//EN
CALSCALE:GREGORIAN
METHOD:PUBLISH
X-WR-CALNAME:VILA - Blog
X-ORIGINAL-URL:https://blog.livrariadavila.com.br
X-WR-CALDESC:Events for VILA - Blog
BEGIN:VEVENT
DTSTART;TZID=America/Sao_Paulo:20231019T180000
DTEND;TZID=America/Sao_Paulo:20231019T210000
DTSTAMP:20260421T032757
CREATED:20230925T173809Z
LAST-MODIFIED:20230925T173809Z
UID:119575-1697738400-1697749200@blog.livrariadavila.com.br
SUMMARY:O ENCONTRO - EVELYN GASPARETTO – ED. SELETO
DESCRIPTION: \n  \nVocê teria coragem de largar tudo e começar do zero? Em outra cidade? Nenhum conhecido? Sem saber o que iria encontrar? Se vai dar certo? Katia teve. O que a fez abandonar quarenta e poucos anos de uma vida e se mudar para Allegra? Nunca tinha ido para lá. Não sabia o que poderia encontrar. O nome da cidade falado aos murmúrios durante a sua infância a fizeram correr esse risco. Por que falavam aos cochichos? Ela teria que descobrir sozinha. Aliás\, sozinha ela sempre foi\, só não sabia até então. Estaria sendo corajosa ou covarde em tomar essa atitude? Nada mais a segurava na cidade grande\, restava-lhe tentar. A vida se impõe quando não há o verdadeiro encontro com a nossa essência. Ela cobra\, ela se faz presente de maneira inexorável\, para que se possa enxergar que o trajeto é outro? E Kátia passou por isso. Os caminhos no novo lugar a fizeram interpretar a vida de outra forma\, dar outro sentido\, reconstruir\, e a partir de então\, começar a entender o que de fato a fez chegar até ali. \n  \n  \n
URL:https://blog.livrariadavila.com.br/event/o-encontro-evelyn-gasparetto-ed-seleto/
LOCATION:R. Treze de Maio\, 1947 - Bela Vista\, São Paulo\, São Paulo\, 01327-900
END:VEVENT
END:VCALENDAR