BEGIN:VCALENDAR
VERSION:2.0
PRODID:-//VILA - Blog - ECPv4.5.12.2//NONSGML v1.0//EN
CALSCALE:GREGORIAN
METHOD:PUBLISH
X-WR-CALNAME:VILA - Blog
X-ORIGINAL-URL:https://blog.livrariadavila.com.br
X-WR-CALDESC:Events for VILA - Blog
BEGIN:VEVENT
DTSTART;TZID=America/Sao_Paulo:20181124T150000
DTEND;TZID=America/Sao_Paulo:20181124T190000
DTSTAMP:20260423T225457
CREATED:20181113T173051Z
LAST-MODIFIED:20181113T173051Z
UID:23484-1543071600-1543086000@blog.livrariadavila.com.br
SUMMARY:O Espirito do Judaísmo
DESCRIPTION:Um dos principais filósofos europeus\, Bernard-Henri Lévy encara uma dupla tarefa nesse livro corajoso e fascinante. A primeira delas consiste em enfrentar sem meias palavras as formas atuais de antissemitismo\, que disfarçaram “o mais antigo dos ódios” com uma nova e sinistra roupagem. A segunda\, em rever os ensinamentos da Bíblia\, do Talmude e da cabala\, para refletir sobre a contribuição crucial da cultura judaica para a história do Ocidente. \nDe Bernard-Henri Lévy \nEd. Três Estrelas \n  \n
URL:https://blog.livrariadavila.com.br/event/o-espirito-do-judaismo/
LOCATION:Rua Fradique Coutinho\, 915 - Pinheiros\, São Paulo\, São Paulo\, 05416-011\, Brasil
GEO:-23.5592934;-46.6892019
X-APPLE-STRUCTURED-LOCATION;VALUE=URI;X-ADDRESS=Rua Fradique Coutinho 915 - Pinheiros São Paulo São Paulo 05416-011 Brasil;X-APPLE-RADIUS=500;X-TITLE=Rua Fradique Coutinho\, 915 - Pinheiros:geo:-46.6892019,-23.5592934
CATEGORIES:LANÇAMENTOS,SESSÕES DE AUTÓGRAFOS
END:VEVENT
END:VCALENDAR