BEGIN:VCALENDAR
VERSION:2.0
PRODID:-//VILA - Blog - ECPv4.5.12.2//NONSGML v1.0//EN
CALSCALE:GREGORIAN
METHOD:PUBLISH
X-WR-CALNAME:VILA - Blog
X-ORIGINAL-URL:https://blog.livrariadavila.com.br
X-WR-CALDESC:Events for VILA - Blog
BEGIN:VEVENT
DTSTART;TZID=America/Sao_Paulo:20241104T183000
DTEND;TZID=America/Sao_Paulo:20241104T213000
DTSTAMP:20260420T084434
CREATED:20240923T142811Z
LAST-MODIFIED:20241028T193146Z
UID:124193-1730745000-1730755800@blog.livrariadavila.com.br
SUMMARY:O FUTURO DO TRABALHO - ALESSANDRA BENEDITO\, ALINE FREITAS\,  CLAUDIA ABDUL AHAD SECURATO E SUSANA MESQUITA BARBOSA – ED. SAINT PAUL
DESCRIPTION:\n\n\n\n\n\n“Nossa vida profissional tem sofrido muitas mudanças… e a sua? Já parou para analisar como está atualmente e para projetar os próximos anos? Quem sabe você seja um líder e esteja também diante de muitos dilemas de sua equipe…. Aqui estão algumas reflexões que podem auxiliar neste momento. Escrito por profissionais de variados campos de saber\, todos especialistas e preocupados com os grandes dilemas sociais e como superá-los\, o livro analisa a conjuntura do mundo do trabalho\, considerando as forças e estratégias de mudanças\, tendências contemporâneas e\, especificamente\, realiza projeções sobre o futuro do trabalho\, trazendo sugestões que podem tornar mais célere o necessário e contínuo redesenho do trabalho e as consequências decorrentes disto. Dado o viés teórico-prático da obra\, o leitor encontrará subsídios para melhor compreensão do tempo presente e tomada de decisões mais assertivas em relação à sua própria carreira\, bem como para impactar mais pessoas e inspirá-las rumo ao futuro que demanda\, como vários autores sugerem\, o foco na humanização como direcionador de todos os tipos de vínculos de trabalho. Este é o futuro: o engajado no propósito de humanizar o trabalho. Assim\, em resumo\, a obra é para todas as pessoas que estão preocupadas com sua vida profissional e também com a de outras pessoas\, sendo que aqui se sugere que de fato esta seja uma preocupação de todos\, afinal\, o trabalho é um direito humano.”\n\n\n\n\n
URL:https://blog.livrariadavila.com.br/event/o-futuro-do-trabalho-alessandra-benedito-aline-freitas-claudia-abdul-ahad-securato-e-susana-mesquita-barbosa-ed-saint-paul/
LOCATION:Av. Juscelino Kubitschek\, 2041 - Itaim Bibi\, São Paulo\, São Paulo\, 04543-011\, Brasil
GEO:-23.5914219;-46.6898224
X-APPLE-STRUCTURED-LOCATION;VALUE=URI;X-ADDRESS=Av. Juscelino Kubitschek 2041 - Itaim Bibi São Paulo São Paulo 04543-011 Brasil;X-APPLE-RADIUS=500;X-TITLE=Av. Juscelino Kubitschek\, 2041 - Itaim Bibi:geo:-46.6898224,-23.5914219
END:VEVENT
END:VCALENDAR