BEGIN:VCALENDAR
VERSION:2.0
PRODID:-//VILA - Blog - ECPv4.5.12.2//NONSGML v1.0//EN
CALSCALE:GREGORIAN
METHOD:PUBLISH
X-WR-CALNAME:VILA - Blog
X-ORIGINAL-URL:https://blog.livrariadavila.com.br
X-WR-CALDESC:Events for VILA - Blog
BEGIN:VEVENT
DTSTART;TZID=America/Sao_Paulo:20190427T150000
DTEND;TZID=America/Sao_Paulo:20190427T180000
DTSTAMP:20260421T024454
CREATED:20190328T143331Z
LAST-MODIFIED:20190328T143331Z
UID:95881-1556377200-1556388000@blog.livrariadavila.com.br
SUMMARY:O guarda-chuva que desenguardachuvou\, Os sapatos de Lila e A história do pássaro e o realejo
DESCRIPTION: \nO guarda-chuva que desenguardachuvou \nNum dia de chuva é que a gente percebe quantos guarda-chuvas existem no\nmundo. Centenas\, milhares\, milhões. De todas as cores\, de todos os jeitos.\nOlhando de cima\, a gente nem vê as pessoas debaixo deles. Só vê uma\nmultidão de guarda-chuvas indo e vindo de lá pra cá. Parece até que eles têm\nvida…\nE é claro que têm vida! Essa é a história de um guarda-chuva preto\, mal\nhumorado\, que sempre achava que nada ia dar certo. Até que um dia\,\nencontrou uma sombrinha que mudaria a sua vida. Conheça essa história de\namor\, fantasia\, desenhos chuvosos e palavras ensolaradas!\nUma linda homenagem de Claudio Fragata e Raquel Matsushita à Sylvia Orthof\,\nque figura entre as mais queridas e inesquecíveis escritoras da nossa literatura\ninfantil. \nDe Claudio Fragata \n  \n \nOs sapatos de Lila \nLila e sua irmã vivem com a família no campo. Um lugar de terra vermelha\, fértil\,\nonde a liberdade de brincar descalça sempre fez a alegria das férias. Na volta às\naulas\, ela percebe que seu único par de sapatos já não serve e precisa de um\nplano astucioso para chegar à escola e passar pela revista do diretor. O plano é\ncriativo\, mas ingênuo ao mesmo tempo\, e acaba por levar as irmãs a um\ndesfecho bastante inesperado.\nOs sapatos de Lila é baseado numa história que aconteceu de verdade\, mas aqui\nganha contornos fantásticos para mostrar que a vida é feita de afetos e\ncumplicidade\, mas também de coragem e desprendimento.\nPara as ilustrações\, Ionit Zilberman escolheu uma técnica que mistura materias\ncomo terra\, cola\, colorau\, água\, gesso\, tinta acrílica\, lápis de cor e tecido\,\nproduzindo efeitos e texturas únicos para cada página. \nDe Angélica Pizzutto Pozzani \n  \n \nA história dos Pássaro e o Realejo \nUm velho girando a manivela\, um realejo que toca e um pássaro que sai do\nfundo da gaiola para puxar um bilhete e tirar a sorte de quem passa: um\npequeno pedaço de destino para aqueles que achassem por bem acreditar.\nAssim começa a história que o pai conta a seu filho\, o menino que pela\nprimeira vez pensou sobre o destino e todas as coisas que podem acontecer\nna vida das pessoas. Como acreditar no bilhete daquele ave colorida\, que\nganhava a vida com o velho do realejo? Será que dava certo?\nEnvolvido em suas perguntas enquanto o pai avançava com a leitura da\nhistória\, o menino não esperava o final surpreeeendente do destino do\npróprio pássaro…\nMas será que existe mesmo destino? E você\, se pudesse ter seu destino\nescrito em um bilhete de realejo\, o que desejaria?\nEscrito e ilustrado por Alê Rampazo\, uma história sensível e emocionante\nsobre as possibilidades da vida. \nDe Alexandre Rampazo  \nEd. Trioleca \n
URL:https://blog.livrariadavila.com.br/event/o-guarda-chuva-que-desenguardachuvou-os-sapatos-de-lila-e-a-historia-do-passaro-e-o-realejo/
LOCATION:Rua Fradique Coutinho\, 915 - Pinheiros\, São Paulo\, São Paulo\, 05416-011\, Brasil
GEO:-23.5592934;-46.6892019
X-APPLE-STRUCTURED-LOCATION;VALUE=URI;X-ADDRESS=Rua Fradique Coutinho 915 - Pinheiros São Paulo São Paulo 05416-011 Brasil;X-APPLE-RADIUS=500;X-TITLE=Rua Fradique Coutinho\, 915 - Pinheiros:geo:-46.6892019,-23.5592934
CATEGORIES:LANÇAMENTOS,SESSÕES DE AUTÓGRAFOS
END:VEVENT
END:VCALENDAR