BEGIN:VCALENDAR
VERSION:2.0
PRODID:-//VILA - Blog - ECPv4.5.12.2//NONSGML v1.0//EN
CALSCALE:GREGORIAN
METHOD:PUBLISH
X-WR-CALNAME:VILA - Blog
X-ORIGINAL-URL:https://blog.livrariadavila.com.br
X-WR-CALDESC:Events for VILA - Blog
BEGIN:VEVENT
DTSTART;TZID=America/Sao_Paulo:20191203T183000
DTEND;TZID=America/Sao_Paulo:20191203T213000
DTSTAMP:20260423T190645
CREATED:20191202T182253Z
LAST-MODIFIED:20191202T182253Z
UID:104452-1575397800-1575408600@blog.livrariadavila.com.br
SUMMARY:O irmão e a jornada da volta
DESCRIPTION:“De repente\, nos tornamos cada um de nós. Daquele som único e luminoso que éramos\, passamos a ser todo mundo\, com todo mundo separado.” Com uma linguagem bastante leve e fácil\, o livro traz a história de dois irmãos e suas descobertas desde a chegada ao mundo do tempo e da ilusão. Nessa jornada\, eles cantam e contam lembranças e lições que vão despertando o gostar de aprender\, o brincar de pensar no pensamento\, o contemplar a natureza\, o ser fluir\, o voar em par e tantos outros instantes entre conversas e reflexões\, véus e descobertas\, encontros e toques no Céu. Eles sabem que\, ao compartilhar essa jornada o mais que puderem\, realizam o propósito de compor o um só Nós\, o caminho da volta para o campo da luz de onde vieram. A história é um convite para brilhar. A jornada é agora! \n  \nDe Hânia Ribeiro \nEd. Scortecci \n
URL:https://blog.livrariadavila.com.br/event/o-irmao-e-a-jornada-da-volta/
LOCATION:Rua Fradique Coutinho\, 915 - Pinheiros\, São Paulo\, São Paulo\, 05416-011\, Brasil
GEO:-23.5592934;-46.6892019
X-APPLE-STRUCTURED-LOCATION;VALUE=URI;X-ADDRESS=Rua Fradique Coutinho 915 - Pinheiros São Paulo São Paulo 05416-011 Brasil;X-APPLE-RADIUS=500;X-TITLE=Rua Fradique Coutinho\, 915 - Pinheiros:geo:-46.6892019,-23.5592934
CATEGORIES:LANÇAMENTOS,SESSÕES DE AUTÓGRAFOS
END:VEVENT
END:VCALENDAR