BEGIN:VCALENDAR
VERSION:2.0
PRODID:-//VILA - Blog - ECPv4.5.12.2//NONSGML v1.0//EN
CALSCALE:GREGORIAN
METHOD:PUBLISH
X-WR-CALNAME:VILA - Blog
X-ORIGINAL-URL:https://blog.livrariadavila.com.br
X-WR-CALDESC:Events for VILA - Blog
BEGIN:VEVENT
DTSTART;TZID=America/Sao_Paulo:20181117T190000
DTEND;TZID=America/Sao_Paulo:20181117T213000
DTSTAMP:20260420T184225
CREATED:20181106T183707Z
LAST-MODIFIED:20181106T183707Z
UID:23404-1542481200-1542490200@blog.livrariadavila.com.br
SUMMARY:O leão do oeste - a fúria do amaldiçoado
DESCRIPTION: Em meio à África subsaariana\, o Império do Manden não é mais o mesmo. Antes imbuído de pacificidade pelo grande conquistador\, hoje é esquecido pelos olhos de seus descendentes. Escravos trazidos das fronteiras são maltratados\, separados de suas famílias e destinados a viverem na miséria.\nAssim se passam centenas de anos até Kankou Musa\, detentor de uma estranha maldição capaz de conectá‑lo com qualquer ser vivo\, desafiar o Império. Nele predomina uma raiva incondicional de seus governantes por eles caçarem amaldiçoados e tratarem pessoas como mercadoria. \nDe André Carvalho \nEd. TLB \n
URL:https://blog.livrariadavila.com.br/event/o-leao-do-oeste-a-furia-do-amaldicoado/
LOCATION:Avenida do Batel\, nº 1868 – Loja 314 piso L3\, Curitiba\, Paraná\, 80420-090\, Brasil
GEO:-25.443012;-49.2899507
X-APPLE-STRUCTURED-LOCATION;VALUE=URI;X-ADDRESS=Avenida do Batel nº 1868 – Loja 314 piso L3 Curitiba Paraná 80420-090 Brasil;X-APPLE-RADIUS=500;X-TITLE=Avenida do Batel\, nº 1868 – Loja 314 piso L3:geo:-49.2899507,-25.443012
CATEGORIES:LANÇAMENTOS,SESSÕES DE AUTÓGRAFOS
END:VEVENT
END:VCALENDAR