BEGIN:VCALENDAR
VERSION:2.0
PRODID:-//VILA - Blog - ECPv4.5.12.2//NONSGML v1.0//EN
CALSCALE:GREGORIAN
METHOD:PUBLISH
X-WR-CALNAME:VILA - Blog
X-ORIGINAL-URL:https://blog.livrariadavila.com.br
X-WR-CALDESC:Events for VILA - Blog
BEGIN:VEVENT
DTSTART;TZID=America/Sao_Paulo:20190320T183000
DTEND;TZID=America/Sao_Paulo:20190320T213000
DTSTAMP:20260420T213234
CREATED:20190220T203557Z
LAST-MODIFIED:20190220T203557Z
UID:93503-1553106600-1553117400@blog.livrariadavila.com.br
SUMMARY:O léxico no discurso literário: a criatividade lexical na poesia moderna e contemporânea
DESCRIPTION: Elis de Almeida Cardoso propõe uma garimpagem lexical e apresenta reflexões acerca da expressividade e dos efeitos de sentidos possíveis nas escolhas e criações de diversos autores em seus textos poéticos\, como Carlos Drummond de Andrade\, Paulo Leminski\, Haroldo de Campos\, entre outros. A escolha pelo léxico atualizado discursivamente se justifica para permitir uma análise do particular\, da liberdade de expressão\, do sentido especial em cada poema\, chegando aos aspectos ideológicos que definem a seleção e criação; para tanto\, apoia-se em diferentes disciplinas linguísticas: a estilística\, a semântica e o discurso. Já a escolha pela poesia se deve ao fato de que esse tipo de discurso literário revela aspectos estéticos e artísticos\, indo além da simples linguagem do cotidiano. Dessa forma\, a autora permite que o leitor conheça parte de universos literários de diversos poetas\, modernos e contemporâneos\, pelo viés dos estudos linguísticos. \nDe Elis de Almeida Cardoso \nEd. Edusp \n
URL:https://blog.livrariadavila.com.br/event/o-lexico-no-discurso-literario-a-criatividade-lexical-na-poesia-moderna-e-contemporanea/
LOCATION:Rua Fradique Coutinho\, 915 - Pinheiros\, São Paulo\, São Paulo\, 05416-011\, Brasil
GEO:-23.5592934;-46.6892019
X-APPLE-STRUCTURED-LOCATION;VALUE=URI;X-ADDRESS=Rua Fradique Coutinho 915 - Pinheiros São Paulo São Paulo 05416-011 Brasil;X-APPLE-RADIUS=500;X-TITLE=Rua Fradique Coutinho\, 915 - Pinheiros:geo:-46.6892019,-23.5592934
CATEGORIES:LANÇAMENTOS,SESSÕES DE AUTÓGRAFOS
END:VEVENT
END:VCALENDAR