BEGIN:VCALENDAR
VERSION:2.0
PRODID:-//VILA - Blog - ECPv4.5.12.2//NONSGML v1.0//EN
CALSCALE:GREGORIAN
METHOD:PUBLISH
X-WR-CALNAME:VILA - Blog
X-ORIGINAL-URL:https://blog.livrariadavila.com.br
X-WR-CALDESC:Events for VILA - Blog
BEGIN:VEVENT
DTSTART;TZID=America/Sao_Paulo:20190330T150000
DTEND;TZID=America/Sao_Paulo:20190330T180000
DTSTAMP:20260420T115506
CREATED:20190220T204840Z
LAST-MODIFIED:20190220T204840Z
UID:93518-1553958000-1553968800@blog.livrariadavila.com.br
SUMMARY:O língua
DESCRIPTION: Os ascentrais dos indígenas do Nordeste\, como os do tumbalalá do submédio São Francisco\, na região de Pambu\, desapareceram do mundo visível\, mas são pessoas que continuam sua existência imortal\, e vivem na beira das águas doces ou no interior das matas\, de onde vêm\, através dos rituais de Toré\, trazer curas e orientar os oficiantes na resolução de problemas comunitários. Eles não conhecem barreiras temporais nem espaciais. São os encantados. Eles se encontram em reuniões rituais e narram a história de suas vidas\, que no passado se entrelaçaram. \nDe Eromar Bomfim \nEd. Ateliê \n
URL:https://blog.livrariadavila.com.br/event/o-lingua/
LOCATION:Rua Fradique Coutinho\, 915 - Pinheiros\, São Paulo\, São Paulo\, 05416-011\, Brasil
GEO:-23.5592934;-46.6892019
X-APPLE-STRUCTURED-LOCATION;VALUE=URI;X-ADDRESS=Rua Fradique Coutinho 915 - Pinheiros São Paulo São Paulo 05416-011 Brasil;X-APPLE-RADIUS=500;X-TITLE=Rua Fradique Coutinho\, 915 - Pinheiros:geo:-46.6892019,-23.5592934
CATEGORIES:LANÇAMENTOS,SESSÕES DE AUTÓGRAFOS
END:VEVENT
END:VCALENDAR