BEGIN:VCALENDAR
VERSION:2.0
PRODID:-//VILA - Blog - ECPv4.5.12.2//NONSGML v1.0//EN
CALSCALE:GREGORIAN
METHOD:PUBLISH
X-WR-CALNAME:VILA - Blog
X-ORIGINAL-URL:https://blog.livrariadavila.com.br
X-WR-CALDESC:Events for VILA - Blog
BEGIN:VEVENT
DTSTART;TZID=America/Sao_Paulo:20240816T180000
DTEND;TZID=America/Sao_Paulo:20240816T210000
DTSTAMP:20260420T081420
CREATED:20240812T212208Z
LAST-MODIFIED:20240812T212208Z
UID:123703-1723831200-1723842000@blog.livrariadavila.com.br
SUMMARY:O MAPA DO SUCESSO EMPRESARIAL - BRUNA WERLING NAVAS MACHADO – ED. LITERARE
DESCRIPTION: \n  \n\n\n\n\nNesta obra o leitor encontrará um guia para levar sua empresa ao próximo nível. Já parou para pensar que\, por trás de cada CNPJ\, existe um CPF? Em outras palavras\, toda empresa é comandada por uma pessoa que precisa estar preparada para enfrentar as mais diversas situações do mercado. Mas será que você está realmente preparado para comandar sua empresa? Esta obra reúne a expertise de 23 especialistas\, que compartilham suas vivências e conhecimentos técnicos para formar um verdadeiro mapa do sucesso. Cada página oferece uma nova lição\, um novo insight\, que contribuirá para a construção de um negócio próspero e sustentável. Prepare-se para uma jornada de aprendizado e desenvolvimento. Com conselhos práticos e experiências valiosas\, este livro proporciona uma base sólida de conhecimento\, oferecendo ferramentas práticas para enfrentar os desafios do mundo empresarial. Dentre os temas e capítulos da obra\, estão: • O mapa jurídico do sucesso empresarial: um guia prático de como legalizar a sua empresa; • Fracasso não existe: o que aconteceu foi diferente do que eu gostaria; • A estruturação de seu negócio sob a luz do código de defesa do consumidor; • Líder 21: foco no bem-estar; • GPS do empresário\, a rota do sucesso! • Desconstruindo o capacitismo: a importância da inclusão de pessoas com deficiência no ambiente corporativo; • Design de interiores: uma conexão perfeita para seus negócios; • Breve relato de fatos que aconteceram no início da minha caminhada com a escrita; • Multiempreendedorismo; • A importância da diversidade e inclusão no ambiente de trabalho; • Inteligência financeira: o caminho para a longevidade do seu negócio; • Acreditar\, fazer e perseverar para vencer; • A importância da advocacia preventiva no mundo corporativo e empresarial; • Mediação e conciliação na lei do superendividamento; • Simplificando marcas\, patentes e direitos autorais: como e porque proteger sua propriedade intelectual; • Obrigações trabalhistas: como prevenir ações judiciais; • Planejamento previdenciário para a pessoa física e a jurídica; • Imagem e ação; • É muito importante entender que não há sucesso sem cometer erros; • A virtude e os temperamentos nas vendas; • Desbravando o mundo da comunicação corporativa: reflexões sobre o sucesso empresarial. São autores desta obra: Agenor Brandalise\, Alessandra Amorim\, Arthur Vinicius Navas Machado\, Bruna Werling Navas Machado\, Carlos Augusto Zanata\, Carmen Vera\, Cassiana Ferreira\, Cristiane M\n\n\n\n\n
URL:https://blog.livrariadavila.com.br/event/o-mapa-do-sucesso-empresarial-bruna-werling-navas-machado-ed-literare/
LOCATION:Alameda Lorena\, 1501\, São Paulo\, São Paulo\, 01424-005\, Brasil
END:VEVENT
END:VCALENDAR