BEGIN:VCALENDAR
VERSION:2.0
PRODID:-//VILA - Blog - ECPv4.5.12.2//NONSGML v1.0//EN
CALSCALE:GREGORIAN
METHOD:PUBLISH
X-WR-CALNAME:VILA - Blog
X-ORIGINAL-URL:https://blog.livrariadavila.com.br
X-WR-CALDESC:Events for VILA - Blog
BEGIN:VEVENT
DTSTART;TZID=America/Sao_Paulo:20230914T190000
DTEND;TZID=America/Sao_Paulo:20230914T213000
DTSTAMP:20260421T233123
CREATED:20230705T193529Z
LAST-MODIFIED:20230705T193529Z
UID:118285-1694718000-1694727000@blog.livrariadavila.com.br
SUMMARY:O MENINO DESINVENTOR - TELMA BRAGA E MÓNICA SMYTHE - INDEPENDENTE
DESCRIPTION: \n  \nA história de um menino que\, no lugar de inventar coisas\, quer mesmo é desinventar e sai mundo afora com sua varinha desinventora. O que será que vai acontecer? \n
URL:https://blog.livrariadavila.com.br/event/o-menino-desinventor-telma-braga-e-monica-smythe-independente/
LOCATION:Avenida do Batel\, nº 1868 – Loja 314 piso L3\, Curitiba\, Paraná\, 80420-090\, Brasil
GEO:-25.443012;-49.2899507
X-APPLE-STRUCTURED-LOCATION;VALUE=URI;X-ADDRESS=Avenida do Batel nº 1868 – Loja 314 piso L3 Curitiba Paraná 80420-090 Brasil;X-APPLE-RADIUS=500;X-TITLE=Avenida do Batel\, nº 1868 – Loja 314 piso L3:geo:-49.2899507,-25.443012
END:VEVENT
END:VCALENDAR