BEGIN:VCALENDAR
VERSION:2.0
PRODID:-//VILA - Blog - ECPv4.5.12.2//NONSGML v1.0//EN
CALSCALE:GREGORIAN
METHOD:PUBLISH
X-WR-CALNAME:VILA - Blog
X-ORIGINAL-URL:https://blog.livrariadavila.com.br
X-WR-CALDESC:Events for VILA - Blog
BEGIN:VEVENT
DTSTART;TZID=America/Sao_Paulo:20181103T150000
DTEND;TZID=America/Sao_Paulo:20181103T180000
DTSTAMP:20260420T182609
CREATED:20181015T190026Z
LAST-MODIFIED:20181015T190026Z
UID:23032-1541257200-1541268000@blog.livrariadavila.com.br
SUMMARY:O menino que queria ser bombeiro
DESCRIPTION:O menino mais agitado do bairro viaja em sonho ao Planetamente\, o planeta mais agitado do Universo. Para voltar precisa decifrar um enigma. \nDe Rogério de M. Barros \nIndependente \nHaverá bate-papo com o autor. \n
URL:https://blog.livrariadavila.com.br/event/o-menino-que-queria-ser-bombeiro/
LOCATION:Rua Fradique Coutinho\, 915 - Pinheiros\, São Paulo\, São Paulo\, 05416-011\, Brasil
GEO:-23.5592934;-46.6892019
X-APPLE-STRUCTURED-LOCATION;VALUE=URI;X-ADDRESS=Rua Fradique Coutinho 915 - Pinheiros São Paulo São Paulo 05416-011 Brasil;X-APPLE-RADIUS=500;X-TITLE=Rua Fradique Coutinho\, 915 - Pinheiros:geo:-46.6892019,-23.5592934
CATEGORIES:BATE-PAPO,LANÇAMENTOS,SESSÕES DE AUTÓGRAFOS
END:VEVENT
END:VCALENDAR