BEGIN:VCALENDAR
VERSION:2.0
PRODID:-//VILA - Blog - ECPv4.5.12.2//NONSGML v1.0//EN
CALSCALE:GREGORIAN
METHOD:PUBLISH
X-WR-CALNAME:VILA - Blog
X-ORIGINAL-URL:https://blog.livrariadavila.com.br
X-WR-CALDESC:Events for VILA - Blog
BEGIN:VEVENT
DTSTART;TZID=America/Sao_Paulo:20191204T190000
DTEND;TZID=America/Sao_Paulo:20191204T213000
DTSTAMP:20260423T150718
CREATED:20191202T182558Z
LAST-MODIFIED:20191202T182558Z
UID:104454-1575486000-1575495000@blog.livrariadavila.com.br
SUMMARY:O mito da austeridade
DESCRIPTION: \nDos primorosos textos que compõem a obra se conclui que o crescimento econômico não pode ser medido somente com valores quantitativos\, senão que deve levar em consideração também desempenhos qualitativos\, como o nível da inflação\, do emprego\, dos salários reais\, da distribuição de renda\, além de outros dados macroeconômicos\, como endividamento e déficit público relativamente ao produto gerado. Trata-se de leitura obrigatória a todos aqueles que estudam ou se interessam pelo assunto\, bem como aos que estão dispostos a olhar de maneira crítica e objetiva – como propõem os autores – a questão da austeridade e das medidas tomadas pelos governos ao longo dos anos. \n  \nDe Antonio Corrêa de Lacerda \nEd. Contracorrente \n
URL:https://blog.livrariadavila.com.br/event/o-mito-da-austeridade/
LOCATION:Rua Fradique Coutinho\, 915 - Pinheiros\, São Paulo\, São Paulo\, 05416-011\, Brasil
GEO:-23.5592934;-46.6892019
X-APPLE-STRUCTURED-LOCATION;VALUE=URI;X-ADDRESS=Rua Fradique Coutinho 915 - Pinheiros São Paulo São Paulo 05416-011 Brasil;X-APPLE-RADIUS=500;X-TITLE=Rua Fradique Coutinho\, 915 - Pinheiros:geo:-46.6892019,-23.5592934
CATEGORIES:BATE-PAPO,LANÇAMENTOS,SESSÕES DE AUTÓGRAFOS
END:VEVENT
END:VCALENDAR