BEGIN:VCALENDAR
VERSION:2.0
PRODID:-//VILA - Blog - ECPv4.5.12.2//NONSGML v1.0//EN
CALSCALE:GREGORIAN
METHOD:PUBLISH
X-WR-CALNAME:VILA - Blog
X-ORIGINAL-URL:https://blog.livrariadavila.com.br
X-WR-CALDESC:Events for VILA - Blog
BEGIN:VEVENT
DTSTART;TZID=America/Sao_Paulo:20191203T183000
DTEND;TZID=America/Sao_Paulo:20191203T213000
DTSTAMP:20260423T064747
CREATED:20191202T185616Z
LAST-MODIFIED:20191203T213514Z
UID:104468-1575397800-1575408600@blog.livrariadavila.com.br
SUMMARY:O novo recurso de revista - EVENTO CANCELADO
DESCRIPTION:Essa não é uma obra de erudição ou de profundidade científica\, mas sim\, um manual de atuação prática destinado ao operador do direito\, e por meio deste manual abordaremos os impactos do Código de Processo Civil de 2015 e da denominada reforma trabalhista (Lei n. 13.467/2017) – inclusive no que diz respeito às questões de direito intertemporal referentes aos processos já constituídos anteriormente à mencionada lei e seus reflexos no Recurso de Revista\, e\, também\, suas repercussões no Despacho Denegatório\, nos Embargos de Declaração e no Agravo de Instrumento. \n  \nDe Jorge Pinheiro Castelo \nEd. LTR \n  \nEVENTO CANCELADO por motivos de força maior. Em breve avisaremos uma nova data do lançamento. \nAgradecemos a compreensão. \n
URL:https://blog.livrariadavila.com.br/event/o-novo-recurso-de-revista/
CATEGORIES:LANÇAMENTOS,SESSÕES DE AUTÓGRAFOS
END:VEVENT
END:VCALENDAR