BEGIN:VCALENDAR
VERSION:2.0
PRODID:-//VILA - Blog - ECPv4.5.12.2//NONSGML v1.0//EN
CALSCALE:GREGORIAN
METHOD:PUBLISH
X-WR-CALNAME:VILA - Blog
X-ORIGINAL-URL:https://blog.livrariadavila.com.br
X-WR-CALDESC:Events for VILA - Blog
BEGIN:VEVENT
DTSTART;TZID=America/Sao_Paulo:20250325T190000
DTEND;TZID=America/Sao_Paulo:20250325T213000
DTSTAMP:20260420T132754
CREATED:20250305T154222Z
LAST-MODIFIED:20250305T154222Z
UID:126405-1742929200-1742938200@blog.livrariadavila.com.br
SUMMARY:O PODER DA AUTORIDADE DIGITAL - ALINE BAK - ED. WAYUNITY
DESCRIPTION: \nAline Bak explora os aspectos essenciais para empreendedores e profissionais que buscam se destacar no digital\, transformando presença online em um ativo valioso para o sucesso de suas marcas. Desvendando técnicas para criar uma imagem autêntica\, que ressoe com o público-alvo\, como pilares de um conteúdo impactante e relevante. Com uma abordagem prática e repleta de insights\, Aline revela seu método exclusivo de alavancagem digital\, desde o planejamento inteligente até a construção de uma identidade sólida que gere confiança e conexão. “O Poder da Autoridade” vai além das dicas tradicionais de marketing digital\, oferecendo estudos de caso reais e estratégias aplicáveis para fortalecer a autoridade online e\, com isso\, expandir negócios e oportunidades. \n
URL:https://blog.livrariadavila.com.br/event/o-poder-da-autoridade-digital-aline-bak-ed-wayunity/
LOCATION:Av. Juscelino Kubitschek\, 2041 - Itaim Bibi\, São Paulo\, São Paulo\, 04543-011\, Brasil
GEO:-23.5914219;-46.6898224
X-APPLE-STRUCTURED-LOCATION;VALUE=URI;X-ADDRESS=Av. Juscelino Kubitschek 2041 - Itaim Bibi São Paulo São Paulo 04543-011 Brasil;X-APPLE-RADIUS=500;X-TITLE=Av. Juscelino Kubitschek\, 2041 - Itaim Bibi:geo:-46.6898224,-23.5914219
CATEGORIES:LANÇAMENTOS,SESSÕES DE AUTÓGRAFOS
END:VEVENT
END:VCALENDAR