BEGIN:VCALENDAR
VERSION:2.0
PRODID:-//VILA - Blog - ECPv4.5.12.2//NONSGML v1.0//EN
CALSCALE:GREGORIAN
METHOD:PUBLISH
X-WR-CALNAME:VILA - Blog
X-ORIGINAL-URL:https://blog.livrariadavila.com.br
X-WR-CALDESC:Events for VILA - Blog
BEGIN:VEVENT
DTSTART;TZID=America/Sao_Paulo:20260704T150000
DTEND;TZID=America/Sao_Paulo:20260704T180000
DTSTAMP:20260425T165804
CREATED:20260424T204415Z
LAST-MODIFIED:20260424T204415Z
UID:133590-1783177200-1783188000@blog.livrariadavila.com.br
SUMMARY:O PODER DA LIDERANÇA - COORD. SANDRA TARALLO - ED. APORTE
DESCRIPTION: \n“Grandes transformações acontecem quando diferentes vozes se unem em torno de um propósito comum. \nEste livro de coautoria reúne experiências\, aprendizados e reflexões de profissionais que decidiram assumir seu protagonismo e compartilhar suas trajetórias. \nCada capítulo traz uma perspectiva única\, construída a partir de vivências reais\, desafios superados e decisões conscientes. \nMais do que uma obra coletiva\, esse projeto representa movimento\, posicionamento e construção de legado. Sob a coordenação editorial da Editora Aporte\, a obra conecta histórias que inspiram\, fortalecem e ampliam a visão sobre liderança e crescimento profissional. \nPorque quando histórias se encontram\, novas possibilidades nascem. “ \n
URL:https://blog.livrariadavila.com.br/event/o-poder-da-lideranca-coord-sandra-tarallo-ed-aporte/
LOCATION:Avenida Paulista\, 1.063\, São Paulo\, SP\, São Paulo\, 01311-200\, Brasil
CATEGORIES:LANÇAMENTOS,SESSÕES DE AUTÓGRAFOS
END:VEVENT
END:VCALENDAR