BEGIN:VCALENDAR
VERSION:2.0
PRODID:-//VILA - Blog - ECPv4.5.12.2//NONSGML v1.0//EN
CALSCALE:GREGORIAN
METHOD:PUBLISH
X-WR-CALNAME:VILA - Blog
X-ORIGINAL-URL:https://blog.livrariadavila.com.br
X-WR-CALDESC:Events for VILA - Blog
BEGIN:VEVENT
DTSTART;TZID=America/Sao_Paulo:20180926T190000
DTEND;TZID=America/Sao_Paulo:20180926T213000
DTSTAMP:20260423T223302
CREATED:20180919T134625Z
LAST-MODIFIED:20180919T134625Z
UID:22489-1537988400-1537997400@blog.livrariadavila.com.br
SUMMARY:O Poder da Positividade (CANCELADO)
DESCRIPTION: O lançamento de Geraldo Rufino na loja do Parque Shopping Maia em Guarulhos\, foi cancelado por impossibilidade do autor e divergência de agenda. \nDesde já\, contamos com a sua compreensão. \n  – Equipe Livraria da Vila  \n \n
URL:https://blog.livrariadavila.com.br/event/o-poder-da-positividade-cancelado/
LOCATION:Av. Bartolomeu de Carlos\, nº 230 – Loja 3040/3041\, Guarulhos\, São Paulo\, 07097-420\, Brasil
GEO:-23.4434162;-46.5400798
X-APPLE-STRUCTURED-LOCATION;VALUE=URI;X-ADDRESS=Av. Bartolomeu de Carlos nº 230 – Loja 3040/3041 Guarulhos São Paulo 07097-420 Brasil;X-APPLE-RADIUS=500;X-TITLE=Av. Bartolomeu de Carlos\, nº 230 – Loja 3040/3041:geo:-46.5400798,-23.4434162
CATEGORIES:LANÇAMENTOS,SESSÕES DE AUTÓGRAFOS
END:VEVENT
END:VCALENDAR