BEGIN:VCALENDAR
VERSION:2.0
PRODID:-//VILA - Blog - ECPv4.5.12.2//NONSGML v1.0//EN
CALSCALE:GREGORIAN
METHOD:PUBLISH
X-WR-CALNAME:VILA - Blog
X-ORIGINAL-URL:https://blog.livrariadavila.com.br
X-WR-CALDESC:Events for VILA - Blog
BEGIN:VEVENT
DTSTART;TZID=America/Sao_Paulo:20181130T183000
DTEND;TZID=America/Sao_Paulo:20181130T213000
DTSTAMP:20260423T175359
CREATED:20181113T174712Z
LAST-MODIFIED:20181113T174712Z
UID:23493-1543602600-1543613400@blog.livrariadavila.com.br
SUMMARY:O prazer secreto
DESCRIPTION:Maria Clara é uma mulher com uma forte imaginação\, capaz de atrair tudo o que deseja para ser feliz. Ela acreditava que sua vida era perfeita ao lado do marido\, Roberto\, um renomado arquiteto. Até encontrá-lo na cama com outra mulher. Ela decide então mudar a direção de sua história\, aceitando uma proposta de trabalho em Miami. Lá conhece Roger\, um homem bonito e sensual com quem realiza suas mais tórridas fantasias sexuais. O destino também coloca em seu caminho Edward Müller\, um reconhecido empresário. Seguro de si\, com um impactante prazer secreto e um enorme poder de sedução\, ele causa uma reviravolta na vida de Maria Clara. Dois homens totalmente opostos\, mas com uma coisa em comum: ambos mexem com o coração e as emoções dela\, obrigando-a rever seus valores. \nRecheado de fortes emoções\, cenas excitantes\, segredos e situações divertidas\, O Prazer Secreto te levará numa viagem eletrizante do começo ao fim. \nDe Norma Canto  \nEd. Pandorga \n
URL:https://blog.livrariadavila.com.br/event/o-prazer-secreto/
LOCATION:Av. Juscelino Kubitschek\, 2041 - Itaim Bibi\, São Paulo\, São Paulo\, 04543-011\, Brasil
GEO:-23.5914219;-46.6898224
X-APPLE-STRUCTURED-LOCATION;VALUE=URI;X-ADDRESS=Av. Juscelino Kubitschek 2041 - Itaim Bibi São Paulo São Paulo 04543-011 Brasil;X-APPLE-RADIUS=500;X-TITLE=Av. Juscelino Kubitschek\, 2041 - Itaim Bibi:geo:-46.6898224,-23.5914219
CATEGORIES:LANÇAMENTOS,SESSÕES DE AUTÓGRAFOS
END:VEVENT
END:VCALENDAR