BEGIN:VCALENDAR
VERSION:2.0
PRODID:-//VILA - Blog - ECPv4.5.12.2//NONSGML v1.0//EN
CALSCALE:GREGORIAN
METHOD:PUBLISH
X-WR-CALNAME:VILA - Blog
X-ORIGINAL-URL:https://blog.livrariadavila.com.br
X-WR-CALDESC:Events for VILA - Blog
BEGIN:VEVENT
DTSTART;TZID=America/Sao_Paulo:20180930T150000
DTEND;TZID=America/Sao_Paulo:20180930T180000
DTSTAMP:20260423T210307
CREATED:20180917T173702Z
LAST-MODIFIED:20180917T173702Z
UID:22486-1538319600-1538330400@blog.livrariadavila.com.br
SUMMARY:O recomeço
DESCRIPTION:O Recomeço reúne 12 contos que tratam de assuntos em evidência na sociedade brasileira: corrupção\, sustentabilidade\, consumismo\, o uso da internet\, a desigualdade social e os problemas enfrentados nos grandes centros urbanos. São narrativas envolventes\, que propõem reflexões e questionamentos da ordem social vigente. \nDe Josué Emidio \nEd. Liberi \n
URL:https://blog.livrariadavila.com.br/event/o-recomeco/
LOCATION:Av. Higienópolis\, 618 – Higienópolis\, São Paulo\, SP\, 01238-000\, Brasil
GEO:-23.542049;-46.6577148
X-APPLE-STRUCTURED-LOCATION;VALUE=URI;X-ADDRESS=Av. Higienópolis 618 – Higienópolis São Paulo SP 01238-000 Brasil;X-APPLE-RADIUS=500;X-TITLE=Av. Higienópolis\, 618 – Higienópolis:geo:-46.6577148,-23.542049
CATEGORIES:LANÇAMENTOS,SESSÕES DE AUTÓGRAFOS
END:VEVENT
END:VCALENDAR