BEGIN:VCALENDAR
VERSION:2.0
PRODID:-//VILA - Blog - ECPv4.5.12.2//NONSGML v1.0//EN
CALSCALE:GREGORIAN
METHOD:PUBLISH
X-WR-CALNAME:VILA - Blog
X-ORIGINAL-URL:https://blog.livrariadavila.com.br
X-WR-CALDESC:Events for VILA - Blog
BEGIN:VEVENT
DTSTART;TZID=America/Sao_Paulo:20181123T190000
DTEND;TZID=America/Sao_Paulo:20181123T213000
DTSTAMP:20260420T084004
CREATED:20181015T195004Z
LAST-MODIFIED:20181121T135720Z
UID:23048-1542999600-1543008600@blog.livrariadavila.com.br
SUMMARY:O rio de Clarice - passeio afetivo pela cidade
DESCRIPTION:O Rio de Clarice: passeio afetivo pela cidade é um guia que conduz o leitor por sete caminhos claricianos\, revelando um Rio onde a escritora viveu durante 28 anos. Flanamos pelas ruas como se entrássemos no túnel do tempo e visitamos os locais por onde Clarice andou\, viveu e desenvolveu sua atividade profissional: Tijuca\, Centro\, Catete\, Botafogo\, Cosme Velho\, Jardim Botânico e Leme. Edifícios\, praias\, praças\, restaurantes\, hotéis\, padarias\, bancas de jornal\, livrarias\, bancos\, cinemas e parques. Em tudo\, a presença de Clarice\, estimulando uma relação afetiva com o Rio de Janeiro\, através de citações extraídas de sua obra. Em cada página\, a presença marcante e enigmática da escritora. \nDe Teresa Montero \nEd. Autêntica \nHaverá bate-papo com a autora (auditório) Teresa Montero com a artista plástica Maria Bonomi com mediação de André Gravata. \n
URL:https://blog.livrariadavila.com.br/event/o-rio-de-clarice-passeio-afetivo-pela-cidade/
LOCATION:Rua Fradique Coutinho\, 915 - Pinheiros\, São Paulo\, São Paulo\, 05416-011\, Brasil
GEO:-23.5592934;-46.6892019
X-APPLE-STRUCTURED-LOCATION;VALUE=URI;X-ADDRESS=Rua Fradique Coutinho 915 - Pinheiros São Paulo São Paulo 05416-011 Brasil;X-APPLE-RADIUS=500;X-TITLE=Rua Fradique Coutinho\, 915 - Pinheiros:geo:-46.6892019,-23.5592934
CATEGORIES:LANÇAMENTOS,SESSÕES DE AUTÓGRAFOS
END:VEVENT
END:VCALENDAR