BEGIN:VCALENDAR
VERSION:2.0
PRODID:-//VILA - Blog - ECPv4.5.12.2//NONSGML v1.0//EN
CALSCALE:GREGORIAN
METHOD:PUBLISH
X-WR-CALNAME:VILA - Blog
X-ORIGINAL-URL:https://blog.livrariadavila.com.br
X-WR-CALDESC:Events for VILA - Blog
BEGIN:VEVENT
DTSTART;TZID=America/Sao_Paulo:20240720T180000
DTEND;TZID=America/Sao_Paulo:20240720T210000
DTSTAMP:20260422T213414
CREATED:20240718T163753Z
LAST-MODIFIED:20240718T163753Z
UID:123321-1721498400-1721509200@blog.livrariadavila.com.br
SUMMARY:O SORRISO DE ARISTEU - MARCUS FREIRE MONNERAT BAPTISTA – ED. SEMENTE
DESCRIPTION: \n  \nO sorriso de Aristeu e o dragão de concreto\, de Marcus Freire Monnerat Baptista\, mergulha no universo do sertão brasileiro\, apresentando a travessia de Aristeu\, que transita da condição de simples bilheteiro\na astro das redes sociais. \nRelacionamentos abusivos entre patrões e empregados\, amigos e amantes estão dispostos em um universo satírico e distópico\, onde o poder do capital fala mais alto. \nA narrativa\, cinematográfica e sinestésica\, revela o estilo do autor em seu romance de estreia\, desvelando os desdobramentos dos\nsete pecados capitais nas relações e\nsentimentos humanos genuínos. \n
URL:https://blog.livrariadavila.com.br/event/o-sorriso-de-aristeu-marcus-freire-monnerat-baptista-ed-semente/
LOCATION:Alameda Lorena\, 1501\, São Paulo\, São Paulo\, 01424-005\, Brasil
END:VEVENT
END:VCALENDAR