BEGIN:VCALENDAR
VERSION:2.0
PRODID:-//VILA - Blog - ECPv4.5.12.2//NONSGML v1.0//EN
CALSCALE:GREGORIAN
METHOD:PUBLISH
X-WR-CALNAME:VILA - Blog
X-ORIGINAL-URL:https://blog.livrariadavila.com.br
X-WR-CALDESC:Events for VILA - Blog
BEGIN:VEVENT
DTSTART;TZID=America/Sao_Paulo:20181109T183000
DTEND;TZID=America/Sao_Paulo:20181109T213000
DTSTAMP:20260420T150303
CREATED:20181023T134550Z
LAST-MODIFIED:20181023T134550Z
UID:23181-1541788200-1541799000@blog.livrariadavila.com.br
SUMMARY:O sorriso de Buda
DESCRIPTION: \nEste não é um livro de história! Pois\, além do viés romântico proporcionado pelo casal que o integra do começo ao fim\, traz também fatos sobre a natureza\, aventura\, drama e terror\, de modo que ao concluir a leitura\, você poderá mudar algumas convicções. \nDe J.J. Barbosa \nEd. CRV \nHaverá bate-papo com o autor (auditório) \n
URL:https://blog.livrariadavila.com.br/event/o-sorriso-de-buda/
LOCATION:Avenida do Batel\, nº 1868 – Loja 314 piso L3\, Curitiba\, Paraná\, 80420-090\, Brasil
GEO:-25.443012;-49.2899507
X-APPLE-STRUCTURED-LOCATION;VALUE=URI;X-ADDRESS=Avenida do Batel nº 1868 – Loja 314 piso L3 Curitiba Paraná 80420-090 Brasil;X-APPLE-RADIUS=500;X-TITLE=Avenida do Batel\, nº 1868 – Loja 314 piso L3:geo:-49.2899507,-25.443012
CATEGORIES:BATE-PAPO,LANÇAMENTOS,SESSÕES DE AUTÓGRAFOS
END:VEVENT
END:VCALENDAR