BEGIN:VCALENDAR
VERSION:2.0
PRODID:-//VILA - Blog - ECPv4.5.12.2//NONSGML v1.0//EN
CALSCALE:GREGORIAN
METHOD:PUBLISH
X-WR-CALNAME:VILA - Blog
X-ORIGINAL-URL:https://blog.livrariadavila.com.br
X-WR-CALDESC:Events for VILA - Blog
BEGIN:VEVENT
DTSTART;TZID=America/Sao_Paulo:20241004T180000
DTEND;TZID=America/Sao_Paulo:20241004T210000
DTSTAMP:20260425T032422
CREATED:20240828T163932Z
LAST-MODIFIED:20240828T163932Z
UID:123935-1728064800-1728075600@blog.livrariadavila.com.br
SUMMARY:O TRICKSTER NA CONTEMPORANEIDADE - ORGS. DURVAL LUIZ DE FARIA E DENIS CANAL MENDES – ED. VOZES
DESCRIPTION: \nO tema do arquétipo do trickster sempre esteve à margem no panteão da psicologia analítica. O presente livro tenta retratá-lo em sua magnitude e importância\, através de um olhar ampliado sobre sua dimensão e diversidade na contemporaneidade. Os autores propõem uma jornada especial\, trazendo à luz o simbolismo do arquétipo do trickster na cultura brasileira\, explorado de modo diversificado nas manifestações da arte\, na narrativa popular\, nos mitos\, nas lendas e no folclore\, perpassando origens de etnias e de povos que constituem o que denominamos de alma brasileira. \n
URL:https://blog.livrariadavila.com.br/event/o-trickster-na-contemporaneidade-orgs-durval-luiz-de-faria-e-denis-canal-mendes-ed-vozes/
LOCATION:Av. Higienópolis\, 618 – Higienópolis\, São Paulo\, SP\, 01238-000\, Brasil
GEO:-23.542049;-46.6577148
X-APPLE-STRUCTURED-LOCATION;VALUE=URI;X-ADDRESS=Av. Higienópolis 618 – Higienópolis São Paulo SP 01238-000 Brasil;X-APPLE-RADIUS=500;X-TITLE=Av. Higienópolis\, 618 – Higienópolis:geo:-46.6577148,-23.542049
END:VEVENT
END:VCALENDAR