BEGIN:VCALENDAR
VERSION:2.0
PRODID:-//VILA - Blog - ECPv4.5.12.2//NONSGML v1.0//EN
CALSCALE:GREGORIAN
METHOD:PUBLISH
X-WR-CALNAME:VILA - Blog
X-ORIGINAL-URL:https://blog.livrariadavila.com.br
X-WR-CALDESC:Events for VILA - Blog
BEGIN:VEVENT
DTSTART;TZID=America/Sao_Paulo:20191206T183000
DTEND;TZID=America/Sao_Paulo:20191206T213000
DTSTAMP:20260422T205129
CREATED:20191202T192521Z
LAST-MODIFIED:20191202T192521Z
UID:104486-1575657000-1575667800@blog.livrariadavila.com.br
SUMMARY:O trio
DESCRIPTION:Se com 16 anos de idade você olhasse para seus melhores amigos\, como imaginaria que estariam 20 anos depois? Será que depois de tanto tempo e de tantas histórias que cada um viverá seguiriam amigos? Nos momentos mais difíceis estariam juntos? E se nesses 20 anos cada um daqueles três adolescentes vivesse um grande trauma\, se cada um tivesse que enfrentar a vida e a morte\, que superar e aprender a voltar a sorrir mesmo com tudo isso? A autora do livro e suas melhores amigas tiveram que passar por tudo isso e\, 20 anos depois\, estavam juntas\, brindando a vida. Este é um livro que conta a história dessa amizade e de tudo que ela teve que enfrentar para que três mulheres adultas tivessem uma a outra. \n  \nDe Gladys de Paula \nEd. Autografia \n
URL:https://blog.livrariadavila.com.br/event/o-trio/
LOCATION:Av. Juscelino Kubitschek\, 2041 - Itaim Bibi\, São Paulo\, São Paulo\, 04543-011\, Brasil
GEO:-23.5914219;-46.6898224
X-APPLE-STRUCTURED-LOCATION;VALUE=URI;X-ADDRESS=Av. Juscelino Kubitschek 2041 - Itaim Bibi São Paulo São Paulo 04543-011 Brasil;X-APPLE-RADIUS=500;X-TITLE=Av. Juscelino Kubitschek\, 2041 - Itaim Bibi:geo:-46.6898224,-23.5914219
CATEGORIES:LANÇAMENTOS,SESSÕES DE AUTÓGRAFOS
END:VEVENT
END:VCALENDAR