BEGIN:VCALENDAR
VERSION:2.0
PRODID:-//VILA - Blog - ECPv4.5.12.2//NONSGML v1.0//EN
CALSCALE:GREGORIAN
METHOD:PUBLISH
X-WR-CALNAME:VILA - Blog
X-ORIGINAL-URL:https://blog.livrariadavila.com.br
X-WR-CALDESC:Events for VILA - Blog
BEGIN:VEVENT
DTSTART;TZID=America/Sao_Paulo:20241008T180000
DTEND;TZID=America/Sao_Paulo:20241008T210000
DTSTAMP:20260422T232302
CREATED:20240904T124039Z
LAST-MODIFIED:20240904T124039Z
UID:123995-1728410400-1728421200@blog.livrariadavila.com.br
SUMMARY:O VERANISTA - JORGE SÁ EARP – ED. 7LETRAS
DESCRIPTION: \nCom agilidade e fluência na construção das suas narrativas\, personagens e diálogos\, Jorge Sá Earp é um daqueles autores que sabem conquistar e cativar o leitor. No primeiro conto\, “O capote de Baltazar”\, a metalinguagem é habilmente explorada. Fabiano\, um escritor ambicioso\, divide com seus amigos o personagem que está criando\, um velho misantropo. Em seu processo de escrita\, memórias afetivas dissolvem os contornos de criador e criatura. A efervescente vida noturna em uma ilha é o ponto de partida para “A muralha de Ibiza”\, que narra o encontro homoerótico e furtivo entre dois estrangeiros à procura de companhia\, e quem sabe\, de si mesmos. A grande atriz Yedda Távora é a protagonista do conto que leva seu nome\, em que o leitor é surpreendido com a mistura de diversos gêneros textuais e compartilha as experiências amorosas da adorável artista. No conto-novela que dá título ao livro\, o protagonista recebe dois hóspedes adolescentes para uma temporada em seu apartamento no Rio de Janeiro\, e a convivência com os jovens desperta os desejos mais profundos. Com a prosa leve e refinada de um verdadeiro estilista\, Jorge Sá Earp apresenta histórias tão envolventes que parecem reais\, nos deixando sem saber se é a vida que imita a arte ou se a arte imita a vida \n
URL:https://blog.livrariadavila.com.br/event/o-veranista-jorge-sa-earp-ed-7letras/
LOCATION:Rua Fradique Coutinho\, 915 - Pinheiros\, São Paulo\, São Paulo\, 05416-011\, Brasil
GEO:-23.5592934;-46.6892019
X-APPLE-STRUCTURED-LOCATION;VALUE=URI;X-ADDRESS=Rua Fradique Coutinho 915 - Pinheiros São Paulo São Paulo 05416-011 Brasil;X-APPLE-RADIUS=500;X-TITLE=Rua Fradique Coutinho\, 915 - Pinheiros:geo:-46.6892019,-23.5592934
END:VEVENT
END:VCALENDAR