BEGIN:VCALENDAR
VERSION:2.0
PRODID:-//VILA - Blog - ECPv4.5.12.2//NONSGML v1.0//EN
CALSCALE:GREGORIAN
METHOD:PUBLISH
X-WR-CALNAME:VILA - Blog
X-ORIGINAL-URL:https://blog.livrariadavila.com.br
X-WR-CALDESC:Events for VILA - Blog
BEGIN:VEVENT
DTSTART;TZID=America/Sao_Paulo:20240815T190000
DTEND;TZID=America/Sao_Paulo:20240815T213000
DTSTAMP:20260422T162625
CREATED:20240719T155837Z
LAST-MODIFIED:20240719T155837Z
UID:123335-1723748400-1723757400@blog.livrariadavila.com.br
SUMMARY:O VOO DA VIDA - DO BERÇO AO TUMULO - SYLVIA HELENA ARAÚJO DA PONTE ACARIO\, PRISCILA MOROZETTI JARRÓ E JULIANA SALES CORREIA – ED. LUCTO
DESCRIPTION: \n  \nEsse livro é um mapa sobre o processo de vinculação e rompimento de vínculos ao longo da vida. \nSe você em algum momento se deparou\, em sua vida pessoal ou em seu processo profissional\, com a vivência de um luto e todas as transformações que ele nos impõe é possível que você tenha se perguntado por que razão perder aquele algo ou alguém tenha trazido tanto impacto a quem você é e a sua forma de ver a vida. A resposta para a dor do fim está justamente na importância do começo. \nDo berço ao túmulo pois segundo a Teoria do Apego\, de John Bowlby\, nós começamos a ser quem somos a partir do momento que as pessoas mais próximas se vinculam a nós e vão construindo narrativas sobre nós e sobre a vida. Se entendemos que nascemos psiquicamente através da vinculação fica mais evidente como morremos com o rompimento dos vínculos e precisamos renascer após\, nesse eterno ciclo vital entre o berço e o túmulo. \nEscrito a muitas mãos especializadas esse livro é um convite para que você mergulhe na psicologia da Teoria do Apego e do Luto sobre uma perspectiva teórica e na troca de experiências das nuances dentro de cada tipo ou fonte de luto vivido e dentro de cada experiência de apego do sujeito por trás da perda. \n
URL:https://blog.livrariadavila.com.br/event/o-voo-da-vida-do-berco-ao-tumulo-sylvia-helena-araujo-da-ponte-acario-priscila-morozetti-jarro-e-juliana-sales-correia-ed-lucto/
LOCATION:Av. Higienópolis\, 618 – Higienópolis\, São Paulo\, SP\, 01238-000\, Brasil
GEO:-23.542049;-46.6577148
X-APPLE-STRUCTURED-LOCATION;VALUE=URI;X-ADDRESS=Av. Higienópolis 618 – Higienópolis São Paulo SP 01238-000 Brasil;X-APPLE-RADIUS=500;X-TITLE=Av. Higienópolis\, 618 – Higienópolis:geo:-46.6577148,-23.542049
END:VEVENT
END:VCALENDAR