BEGIN:VCALENDAR
VERSION:2.0
PRODID:-//VILA - Blog - ECPv4.5.12.2//NONSGML v1.0//EN
CALSCALE:GREGORIAN
METHOD:PUBLISH
X-WR-CALNAME:VILA - Blog
X-ORIGINAL-URL:https://blog.livrariadavila.com.br
X-WR-CALDESC:Events for VILA - Blog
BEGIN:VEVENT
DTSTART;TZID=America/Sao_Paulo:20181107T183000
DTEND;TZID=America/Sao_Paulo:20181107T213000
DTSTAMP:20260420T170004
CREATED:20181015T190259Z
LAST-MODIFIED:20181015T190259Z
UID:23034-1541615400-1541626200@blog.livrariadavila.com.br
SUMMARY:O Yoga Linfático e a Água da Vida: Livro I - Nosso aquário interior
DESCRIPTION:O Yoga Linfático® é um método desenvolvido nos Estados Unidos por Edely Wallace — mestre de yoga com mais de 25 anos de experiencia e terapeuta do sistema linfático certificada na Alemanha e Austria — com o objetivo de ativar o sistema linfático. A diferença entre este estilo de yoga e outros se encontra na sequencia das ferramentas de yoga \, as quais seguirão a anatomia e fisiologia do sistema linfático. Traz como benefícios a prevenção de doenças e dores\, alem de proporcionar rejuvenescimento\, bem estar e perda de peso. Igualmente\, reduz e previne inchaço\, equilibra o sistema imunitário e aumenta a capacidade de concentração\, memória e disposição geral. \nDe Edely Wallace \nEd. Axis Mundi \n
URL:https://blog.livrariadavila.com.br/event/o-yoga-linfatico-e-a-agua-da-vida-livro-i-nosso-aquario-interior/
LOCATION:Rua Fradique Coutinho\, 915 - Pinheiros\, São Paulo\, São Paulo\, 05416-011\, Brasil
GEO:-23.5592934;-46.6892019
X-APPLE-STRUCTURED-LOCATION;VALUE=URI;X-ADDRESS=Rua Fradique Coutinho 915 - Pinheiros São Paulo São Paulo 05416-011 Brasil;X-APPLE-RADIUS=500;X-TITLE=Rua Fradique Coutinho\, 915 - Pinheiros:geo:-46.6892019,-23.5592934
CATEGORIES:LANÇAMENTOS,SESSÕES DE AUTÓGRAFOS
END:VEVENT
END:VCALENDAR