BEGIN:VCALENDAR
VERSION:2.0
PRODID:-//VILA - Blog - ECPv4.5.12.2//NONSGML v1.0//EN
CALSCALE:GREGORIAN
METHOD:PUBLISH
X-WR-CALNAME:VILA - Blog
X-ORIGINAL-URL:https://blog.livrariadavila.com.br
X-WR-CALDESC:Events for VILA - Blog
BEGIN:VEVENT
DTSTART;TZID=America/Sao_Paulo:20200112T160000
DTEND;TZID=America/Sao_Paulo:20200112T170000
DTSTAMP:20260422T222807
CREATED:20191226T151149Z
LAST-MODIFIED:20191226T151149Z
UID:112250-1578844800-1578848400@blog.livrariadavila.com.br
SUMMARY:Oficina: Abremente
DESCRIPTION:Desafios Abremente é uma nova coleção para crianças de 3 a 11 anos. Com 8 títulos\, um para cada idade\, contendo centenas de jogos: labirintos\, diferenças\, sombras\, enigmas\, mímicas\, música entre outros. Além disso\, eles têm dados curiosos e conteúdo extra para muitas brincadeiras. \n  \nCom Aline Gandolla \nEd. Catapulta \n
URL:https://blog.livrariadavila.com.br/event/oficina-abremente-2/
LOCATION:Rua Fradique Coutinho\, 915 - Pinheiros\, São Paulo\, São Paulo\, 05416-011\, Brasil
GEO:-23.5592934;-46.6892019
X-APPLE-STRUCTURED-LOCATION;VALUE=URI;X-ADDRESS=Rua Fradique Coutinho 915 - Pinheiros São Paulo São Paulo 05416-011 Brasil;X-APPLE-RADIUS=500;X-TITLE=Rua Fradique Coutinho\, 915 - Pinheiros:geo:-46.6892019,-23.5592934
CATEGORIES:FÉRIAS NA VILA
END:VEVENT
END:VCALENDAR