BEGIN:VCALENDAR
VERSION:2.0
PRODID:-//VILA - Blog - ECPv4.5.12.2//NONSGML v1.0//EN
CALSCALE:GREGORIAN
METHOD:PUBLISH
X-WR-CALNAME:VILA - Blog
X-ORIGINAL-URL:https://blog.livrariadavila.com.br
X-WR-CALDESC:Events for VILA - Blog
BEGIN:VEVENT
DTSTART;TZID=America/Sao_Paulo:20200118T160000
DTEND;TZID=America/Sao_Paulo:20200118T170000
DTSTAMP:20260423T001529
CREATED:20191226T151358Z
LAST-MODIFIED:20191226T151358Z
UID:112252-1579363200-1579366800@blog.livrariadavila.com.br
SUMMARY:Oficina: Abremente
DESCRIPTION:Desafios Abremente é uma nova coleção para crianças de 3 a 11 anos. Com 8 títulos\, um para cada idade\, contendo centenas de jogos: labirintos\, diferenças\, sombras\, enigmas\, mímicas\, música entre outros. Além disso\, eles têm dados curiosos e conteúdo extra para muitas brincadeiras. \n  \nCom Aline Gandolla \nEd. Catapulta \n
URL:https://blog.livrariadavila.com.br/event/oficina-abremente-3/
LOCATION:Rua Pamplona\, 1704\, São Paulo\, São Paulo\, 01405-000\, Brasil
GEO:-23.5702482;-46.6612794
X-APPLE-STRUCTURED-LOCATION;VALUE=URI;X-ADDRESS=Rua Pamplona 1704 São Paulo São Paulo 01405-000 Brasil;X-APPLE-RADIUS=500;X-TITLE=Rua Pamplona\, 1704:geo:-46.6612794,-23.5702482
CATEGORIES:FÉRIAS NA VILA
END:VEVENT
END:VCALENDAR