BEGIN:VCALENDAR
VERSION:2.0
PRODID:-//VILA - Blog - ECPv4.5.12.2//NONSGML v1.0//EN
CALSCALE:GREGORIAN
METHOD:PUBLISH
X-WR-CALNAME:VILA - Blog
X-ORIGINAL-URL:https://blog.livrariadavila.com.br
X-WR-CALDESC:Events for VILA - Blog
BEGIN:VEVENT
DTSTART;TZID=America/Sao_Paulo:20200125T160000
DTEND;TZID=America/Sao_Paulo:20200125T170000
DTSTAMP:20260422T221050
CREATED:20191226T150948Z
LAST-MODIFIED:20191226T150948Z
UID:112247-1579968000-1579971600@blog.livrariadavila.com.br
SUMMARY:Oficina: Abremente
DESCRIPTION:Desafios Abremente é uma nova coleção para crianças de 3 a 11 anos. Com 8 títulos\, um para cada idade\, contendo centenas de jogos: labirintos\, diferenças\, sombras\, enigmas\, mímicas\, música entre outros. Além disso\, eles têm dados curiosos e conteúdo extra para muitas brincadeiras. \n  \nCom Aline Gandolla \nEd. Catapulta \n
URL:https://blog.livrariadavila.com.br/event/oficina-abremente/
CATEGORIES:FÉRIAS NA VILA
END:VEVENT
END:VCALENDAR