BEGIN:VCALENDAR
VERSION:2.0
PRODID:-//VILA - Blog - ECPv4.5.12.2//NONSGML v1.0//EN
CALSCALE:GREGORIAN
METHOD:PUBLISH
X-WR-CALNAME:VILA - Blog
X-ORIGINAL-URL:https://blog.livrariadavila.com.br
X-WR-CALDESC:Events for VILA - Blog
BEGIN:VEVENT
DTSTART;TZID=America/Sao_Paulo:20200112T160000
DTEND;TZID=America/Sao_Paulo:20200112T170000
DTSTAMP:20260421T213503
CREATED:20191220T142630Z
LAST-MODIFIED:20191220T142630Z
UID:112209-1578844800-1578848400@blog.livrariadavila.com.br
SUMMARY:Oficina de artes: Colar de contas
DESCRIPTION: \nApós a leitura do livro as crianças receberão um kit para a montagem do seu próprio colar de contas. Durante a oficina\, os convidados ouviram cantigas de rodas tradicionais brasileiras. \n\nCom Fabiana Grieco \nEd. Jaguatirica \n
URL:https://blog.livrariadavila.com.br/event/oficina-de-artes-colar-de-contas-2/
CATEGORIES:FÉRIAS NA VILA
END:VEVENT
END:VCALENDAR