BEGIN:VCALENDAR
VERSION:2.0
PRODID:-//VILA - Blog - ECPv4.5.12.2//NONSGML v1.0//EN
CALSCALE:GREGORIAN
METHOD:PUBLISH
X-WR-CALNAME:VILA - Blog
X-ORIGINAL-URL:https://blog.livrariadavila.com.br
X-WR-CALDESC:Events for VILA - Blog
BEGIN:VEVENT
DTSTART;TZID=America/Sao_Paulo:20200125T160000
DTEND;TZID=America/Sao_Paulo:20200125T170000
DTSTAMP:20260421T195817
CREATED:20191220T142502Z
LAST-MODIFIED:20191220T142502Z
UID:112206-1579968000-1579971600@blog.livrariadavila.com.br
SUMMARY:Oficina de artes: Colar de contas
DESCRIPTION:Após a leitura do livro as crianças receberão um kit para a montagem do seu próprio colar de contas. Durante a oficina\, os convidados ouviram cantigas de rodas tradicionais brasileiras. \n  \nCom Fabiana Grieco \nEd. Jaguatirica \n
URL:https://blog.livrariadavila.com.br/event/oficina-de-artes-colar-de-contas/
LOCATION:Av. Higienópolis\, 618 – Higienópolis\, São Paulo\, SP\, 01238-000\, Brasil
GEO:-23.542049;-46.6577148
X-APPLE-STRUCTURED-LOCATION;VALUE=URI;X-ADDRESS=Av. Higienópolis 618 – Higienópolis São Paulo SP 01238-000 Brasil;X-APPLE-RADIUS=500;X-TITLE=Av. Higienópolis\, 618 – Higienópolis:geo:-46.6577148,-23.542049
CATEGORIES:FÉRIAS NA VILA
END:VEVENT
END:VCALENDAR