BEGIN:VCALENDAR
VERSION:2.0
PRODID:-//VILA - Blog - ECPv4.5.12.2//NONSGML v1.0//EN
CALSCALE:GREGORIAN
METHOD:PUBLISH
X-WR-CALNAME:VILA - Blog
X-ORIGINAL-URL:https://blog.livrariadavila.com.br
X-WR-CALDESC:Events for VILA - Blog
BEGIN:VEVENT
DTSTART;TZID=America/Sao_Paulo:20200118T163000
DTEND;TZID=America/Sao_Paulo:20200118T173000
DTSTAMP:20260421T135350
CREATED:20191219T185923Z
LAST-MODIFIED:20200118T125600Z
UID:112193-1579365000-1579368600@blog.livrariadavila.com.br
SUMMARY:Oficina de jogos: quebra-cabeças e jogos da memória
DESCRIPTION: \nVenha se divertir montando quebra-cabeças gigantes inspirados nas belezas do nosso Brasil. As crianças se divertem enquanto aprendem mais sobre o pantanal\, a floresta Amazônica e o cerrado. \n  \nCom Kedmiel Verneque \nEd. Araquarela \n
URL:https://blog.livrariadavila.com.br/event/oficina-de-jogos-quebra-cabecas-e-jogos-da-memoria-10/
CATEGORIES:FÉRIAS NA VILA
END:VEVENT
END:VCALENDAR