BEGIN:VCALENDAR
VERSION:2.0
PRODID:-//VILA - Blog - ECPv4.5.12.2//NONSGML v1.0//EN
CALSCALE:GREGORIAN
METHOD:PUBLISH
X-WR-CALNAME:VILA - Blog
X-ORIGINAL-URL:https://blog.livrariadavila.com.br
X-WR-CALDESC:Events for VILA - Blog
BEGIN:VEVENT
DTSTART;TZID=America/Sao_Paulo:20200111T160000
DTEND;TZID=America/Sao_Paulo:20200111T170000
DTSTAMP:20260421T005541
CREATED:20191219T174506Z
LAST-MODIFIED:20191219T174548Z
UID:112169-1578758400-1578762000@blog.livrariadavila.com.br
SUMMARY:Oficina de jogos: quebra-cabeças e jogos da memória
DESCRIPTION:Venha se divertir montando quebra-cabeças gigantes inspirados nas belezas do nosso Brasil. As crianças se divertem enquanto aprendem mais sobre o pantanal\, a floresta Amazônica e o cerrado. \n  \nCom Valdir de Oliveira \nEd. Araquarela \n
URL:https://blog.livrariadavila.com.br/event/oficina-de-jogos-quebra-cabecas-e-jogos-da-memoria/
LOCATION:Avenida Ayrton Senna da Silva\, 400 – 2º piso\, Londrina\, Paraná\, 86050-460\, Brasil
CATEGORIES:FÉRIAS NA VILA
END:VEVENT
END:VCALENDAR