BEGIN:VCALENDAR
VERSION:2.0
PRODID:-//VILA - Blog - ECPv4.5.12.2//NONSGML v1.0//EN
CALSCALE:GREGORIAN
METHOD:PUBLISH
X-WR-CALNAME:VILA - Blog
X-ORIGINAL-URL:https://blog.livrariadavila.com.br
X-WR-CALDESC:Events for VILA - Blog
BEGIN:VEVENT
DTSTART;TZID=America/Sao_Paulo:20221121T180000
DTEND;TZID=America/Sao_Paulo:20221121T210000
DTSTAMP:20260422T214231
CREATED:20221027T135544Z
LAST-MODIFIED:20221027T135544Z
UID:115806-1669053600-1669064400@blog.livrariadavila.com.br
SUMMARY:OS ALQUIMISTAS DE CURITIBA - MARCELO OIKAWA - INDEPENDENTE
DESCRIPTION: \n  \nNo livro “Os Alquimistas de Curitiba” o pesquisador Marcelo Oikawa apresenta uma leitura singular sobre o planejamento de construção de\nCuritiba\, além de apresentar uma extensa pesquisa acerca da história da construção urbana da cidade de Curitiba entre os\nanos 60 e 90\, realizada através de depoimentos dos urbanistas Jaime Lerner\, Rafael Dely\, Nicolau Kluppel e Carlos\nCeneviva. \n
URL:https://blog.livrariadavila.com.br/event/os-alquimistas-de-curitiba-marcelo-oikawa-independente/
LOCATION:Avenida do Batel\, nº 1868 – Loja 314 piso L3\, Curitiba\, Paraná\, 80420-090\, Brasil
GEO:-25.443012;-49.2899507
X-APPLE-STRUCTURED-LOCATION;VALUE=URI;X-ADDRESS=Avenida do Batel nº 1868 – Loja 314 piso L3 Curitiba Paraná 80420-090 Brasil;X-APPLE-RADIUS=500;X-TITLE=Avenida do Batel\, nº 1868 – Loja 314 piso L3:geo:-49.2899507,-25.443012
END:VEVENT
END:VCALENDAR