BEGIN:VCALENDAR
VERSION:2.0
PRODID:-//VILA - Blog - ECPv4.5.12.2//NONSGML v1.0//EN
CALSCALE:GREGORIAN
METHOD:PUBLISH
X-WR-CALNAME:VILA - Blog
X-ORIGINAL-URL:https://blog.livrariadavila.com.br
X-WR-CALDESC:Events for VILA - Blog
BEGIN:VEVENT
DTSTART;TZID=America/Sao_Paulo:20251015T190000
DTEND;TZID=America/Sao_Paulo:20251015T213000
DTSTAMP:20260425T200929
CREATED:20250926T132539Z
LAST-MODIFIED:20250926T132539Z
UID:130218-1760554800-1760563800@blog.livrariadavila.com.br
SUMMARY:OS DISPUTE BOARDS E A SUA APLICABILIDADE NOS CONTRATOS PÚBLICOS – RODRIGO CARVALHO POLLI – ED. JURUÁ
DESCRIPTION: \nDiante de um cenário que cada vez mais se repete em nosso país – obras públicas paralisadas – os dispute boards ganham notadamente grande relevância\, em razão dos resultados obtidos em experiências\, sobretudo\, estrangeiras. \nOs dispute boards\, ou mesmo\, “comitês de resolução e prevenção de disputa”\, na condição de método alternativo de solução de conflitos\, estão em grande evidência no ordenamento jurídico nacional. Isto decorre\, certamente\, de benefícios possíveis de serem observados\, entre eles\, a celeridade com que os conflitos propostos são resolvidos\, bem como da alta satisfação das partes com a decisão proferida. \nAdemais\, os tribunais pátrios\, comumente\, ao se depara com um pedido de revisão de uma decisão proferida por um comitê de resolução e prevenção de disputa\, têm optado em mantê-la\, inclusive\, como formar de prestigiar e estimular o uso de tal instituto. \nOutro aspecto que chama a atenção é que as decisões realizadas por um comitê de resolução e prevenção de disputa são altamente técnicas\, proferidas por profissionais indicados pelas partes\, os quais\, em regra\, acompanham a execução do contrato. \nPor isso tudo\, imprescindível a leitura desta obra\, posto que os dispute boards farão parte mais e mais do nosso cotidiano! \n
URL:https://blog.livrariadavila.com.br/event/os-dispute-boards-e-a-sua-aplicabilidade-nos-contratos-publicos-rodrigo-carvalho-polli-ed-jurua/
LOCATION:Avenida do Batel\, nº 1868 – Loja 314 piso L3\, Curitiba\, Paraná\, 80420-090\, Brasil
GEO:-25.443012;-49.2899507
X-APPLE-STRUCTURED-LOCATION;VALUE=URI;X-ADDRESS=Avenida do Batel nº 1868 – Loja 314 piso L3 Curitiba Paraná 80420-090 Brasil;X-APPLE-RADIUS=500;X-TITLE=Avenida do Batel\, nº 1868 – Loja 314 piso L3:geo:-49.2899507,-25.443012
CATEGORIES:LANÇAMENTOS,SESSÕES DE AUTÓGRAFOS
END:VEVENT
END:VCALENDAR