BEGIN:VCALENDAR
VERSION:2.0
PRODID:-//VILA - Blog - ECPv4.5.12.2//NONSGML v1.0//EN
CALSCALE:GREGORIAN
METHOD:PUBLISH
X-WR-CALNAME:VILA - Blog
X-ORIGINAL-URL:https://blog.livrariadavila.com.br
X-WR-CALDESC:Events for VILA - Blog
BEGIN:VEVENT
DTSTART;TZID=America/Sao_Paulo:20191021T190000
DTEND;TZID=America/Sao_Paulo:20191021T213000
DTSTAMP:20260422T203903
CREATED:20191002T170715Z
LAST-MODIFIED:20191002T170715Z
UID:99523-1571684400-1571693400@blog.livrariadavila.com.br
SUMMARY:Os presidentes
DESCRIPTION: \nDizem que brasileiro não sabe votar porque não tem memória. Porque não lembra que um certo presidente não teria sido eleito sem um acordo entre os ricos. E que outro contou com uma ajudinha na imprensa. Teve também o que ganhou poder graças às fake news. E aquele que comprometeu as contas públicas. Sem falar do que atropelou as instituições em nome de uma mítica conexão direta com o povo. Também não lembra que a falta de comunicação de um certo presidente contribuiu para que uma campanha de saúde se transformasse em revolta. E que o autoritarismo de outro levou a torturas e assassinatos. Foi para refrescar nossa mente que o jornalista Rodrigo Vizeu resolveu mergulhar na história do Brasil e traçar um perfil completo de 32 dos nossos presidentes. E assim criou\, na Folha de São Paulo\, o podcast Presidente da Semana\, que inspirou este livro. Trazendo comentários de grandes especialistas\, como José Murilo de Carvalho\, Boris Fausto\, Lilia Moritz Schwarcz e Heloisa Starling\, Vizeu dá vida aos personagens e nos leva a conhecer a própria história do Brasil\, marcada por uma dança de cadeiras de oligarcas\, militares e populistas em uma frágil democracia. Rodrigo Vizeu dá uma contribuição de valor inestimável ao resgatar a história dos presidentes de nossa tumultuada república. Seu trabalho é um exemplo de como combinar jornalismo e história na importante missão de ajudar os brasileiros a olhar o passado com o objetivo de entender o presente e preparar a construção do futuro. Laurentino Gomes\, jornalista e escritor best-seller. \n  \nDe Rodrigo Vizeu \nEd. Harper Collins \n  \nLançamento e bate-papo \n
URL:https://blog.livrariadavila.com.br/event/os-presidentes/
CATEGORIES:BATE-PAPO,LANÇAMENTOS,SESSÕES DE AUTÓGRAFOS
END:VEVENT
END:VCALENDAR