BEGIN:VCALENDAR
VERSION:2.0
PRODID:-//VILA - Blog - ECPv4.5.12.2//NONSGML v1.0//EN
CALSCALE:GREGORIAN
METHOD:PUBLISH
X-WR-CALNAME:VILA - Blog
X-ORIGINAL-URL:https://blog.livrariadavila.com.br
X-WR-CALDESC:Events for VILA - Blog
BEGIN:VEVENT
DTSTART;TZID=America/Sao_Paulo:20181013T170000
DTEND;TZID=America/Sao_Paulo:20181013T193000
DTSTAMP:20260423T094441
CREATED:20180917T152420Z
LAST-MODIFIED:20180917T152420Z
UID:22459-1539450000-1539459000@blog.livrariadavila.com.br
SUMMARY:Os segredos do Pilates na gestação - uma obra baseada em experiência prática
DESCRIPTION:De Patricia de Andrade Valeriano \nIndependente \n
URL:https://blog.livrariadavila.com.br/event/os-segredos-do-pilates-na-gestacao-uma-obra-baseada-em-experiencia-pratica/
LOCATION:Rua Fradique Coutinho\, 915 - Pinheiros\, São Paulo\, São Paulo\, 05416-011\, Brasil
GEO:-23.5592934;-46.6892019
X-APPLE-STRUCTURED-LOCATION;VALUE=URI;X-ADDRESS=Rua Fradique Coutinho 915 - Pinheiros São Paulo São Paulo 05416-011 Brasil;X-APPLE-RADIUS=500;X-TITLE=Rua Fradique Coutinho\, 915 - Pinheiros:geo:-46.6892019,-23.5592934
CATEGORIES:LANÇAMENTOS,SESSÕES DE AUTÓGRAFOS
END:VEVENT
END:VCALENDAR