BEGIN:VCALENDAR
VERSION:2.0
PRODID:-//VILA - Blog - ECPv4.5.12.2//NONSGML v1.0//EN
CALSCALE:GREGORIAN
METHOD:PUBLISH
X-WR-CALNAME:VILA - Blog
X-ORIGINAL-URL:https://blog.livrariadavila.com.br
X-WR-CALDESC:Events for VILA - Blog
BEGIN:VEVENT
DTSTART;TZID=America/Sao_Paulo:20190312T183000
DTEND;TZID=America/Sao_Paulo:20190312T213000
DTSTAMP:20260420T150437
CREATED:20190222T172136Z
LAST-MODIFIED:20190222T172136Z
UID:93568-1552415400-1552426200@blog.livrariadavila.com.br
SUMMARY:Palestra do Documentário "Coração Que Acolhe"
DESCRIPTION:Com Dot films\, produtora do documentário\, Bruna Bittencourt\, diretora do filme e convidados. \nEvento gratuito \n  \n
URL:https://blog.livrariadavila.com.br/event/palestra-do-documentario-coracao-que-acolhe/
CATEGORIES:PALESTRAS
END:VEVENT
END:VCALENDAR