BEGIN:VCALENDAR
VERSION:2.0
PRODID:-//VILA - Blog - ECPv4.5.12.2//NONSGML v1.0//EN
CALSCALE:GREGORIAN
METHOD:PUBLISH
X-WR-CALNAME:VILA - Blog
X-ORIGINAL-URL:https://blog.livrariadavila.com.br
X-WR-CALDESC:Events for VILA - Blog
BEGIN:VEVENT
DTSTART;TZID=America/Sao_Paulo:20191207T110000
DTEND;TZID=America/Sao_Paulo:20191207T130000
DTSTAMP:20260424T012113
CREATED:20191127T171049Z
LAST-MODIFIED:20191127T171049Z
UID:102357-1575716400-1575723600@blog.livrariadavila.com.br
SUMMARY:Palestra motivacional para mães
DESCRIPTION:Coach em grupo para mulheres que desejam avançar e atingir alta performance na vidas e em suas relações sentimentais. Serão trabalhadas todas as áreas da vida. Venha desenvolver suas habilidades de inteligência emocional e criar um novo presente. Autoestima\, autoconfiança\, coragem e empoderamento\, este é o momento. \n\n\n\n\n  \nCom Cíntia Kliman \nIdade indicada: acima de 18 anos \n\n\n\n\n
URL:https://blog.livrariadavila.com.br/event/palestra-motivacional-para-maes-5/
LOCATION:Av. Bartolomeu de Carlos\, nº 230 – Loja 3040/3041\, Guarulhos\, São Paulo\, 07097-420\, Brasil
GEO:-23.4434162;-46.5400798
X-APPLE-STRUCTURED-LOCATION;VALUE=URI;X-ADDRESS=Av. Bartolomeu de Carlos nº 230 – Loja 3040/3041 Guarulhos São Paulo 07097-420 Brasil;X-APPLE-RADIUS=500;X-TITLE=Av. Bartolomeu de Carlos\, nº 230 – Loja 3040/3041:geo:-46.5400798,-23.4434162
CATEGORIES:BATE-PAPO,PALESTRAS
END:VEVENT
END:VCALENDAR