BEGIN:VCALENDAR
VERSION:2.0
PRODID:-//VILA - Blog - ECPv4.5.12.2//NONSGML v1.0//EN
CALSCALE:GREGORIAN
METHOD:PUBLISH
X-WR-CALNAME:VILA - Blog
X-ORIGINAL-URL:https://blog.livrariadavila.com.br
X-WR-CALDESC:Events for VILA - Blog
BEGIN:VEVENT
DTSTART;TZID=America/Sao_Paulo:20240903T183000
DTEND;TZID=America/Sao_Paulo:20240903T213000
DTSTAMP:20260425T121716
CREATED:20240820T172847Z
LAST-MODIFIED:20240820T172847Z
UID:123817-1725388200-1725399000@blog.livrariadavila.com.br
SUMMARY:PARA QUE SERVE UMA ANÁLISE?\, ODEIO MEUS PAIS! E RISCAR UM FÓSFORO - MARION MINERBO – ED. BLUCHER
DESCRIPTION:\n\n\n\n\n\nPara que serve uma análise? Título de um dos Colaboradoracapítulos deste livro\, a pergunta deveria serfeita por todo psicanalista e aplicada a cadauma das análises que empreende. Marion Minerboapresenta um caminho de construção de respostas:“Uma análise serve para que o paciente conquiste autonomiasuficiente em relação a seus objetos internos/ externos paraconseguir fazer o que quiser com sua vida.”Por meio de seus ateliês clínicos (modelo de trabalho concebidopor ela)\, o leitor encontra o sentido dessa afirmação\,mergulhando em um fazer analítico sofisticado\, tanto em casosde neurose quanto de não neurose.Colocando seu pensar e seus diálogos cotidianos à disposição doleitor\, a autora mostra como operam na prática transferência econtratransferência e como é possível articular clínica e teoria\,oferecendo repertório e ferramentas para que cada analistapossa pensar e fazer sua própria clínica.Bruna Paola Zerbinatti\n\n\n\n\n\n\n\n\nComo cocriar sentido para o traumático vivido?Neste volume\, Marion Minerbo explora essa questão em três ateliês clínicos\, ao apresentar diferentes facetas do traumático a partir de casos que possuem como elemento comum o ódio em relação aos pais. No entanto\, sua compreensão metapsicológica será diversa com cada paciente: os ataques do supereu cruel\, a captura subjetiva ou ainda as falhas deholdingna relação com o objeto primário. Nos quatro encontros de cada ateliê\, a autora mostra que\, para compreender em que tipo de vínculo se constituiu esse sujeito\, é preciso escutar para além do ódio. Só assim será possível elaborar interpretações capazes de dar significado a vivências tão carregadas de elementos mortíferos\, e que constantemente desafiam a contratransferência do analista.Bruna Paola Zerbinatti\n\n\n\n\n\n\n\nNeste volume\, são apresentados três ateliês clínicos em que transferência e contratransferência estão no centro do debate. Como trabalhar com a transferência amorosa/erótica? Como elaborar o medo na contratransferência\, complementar ao ódio (explícito ou velado) na transferência? Ou ainda: que sentido dar a uma estranhíssima falta de conexão entre analista e paciente? Seja pelo excesso de “calor” ou pelo excesso de “frio”\, o analista tende a se sentir imobilizado no lugar transferencial a ele atribuído. Marion Minerbo constrói\, passo a passo\, leituras teórico-clínicas que atribuem sentido e\, então\, movimentam situações difíceis e angustiantes\, tão comuns no cotidiano dos consultórios.Bruna Paola Zerbinatti\n\n\n\n\n\n\n\n\n\n\n\n\n\n
URL:https://blog.livrariadavila.com.br/event/para-que-serve-uma-analise-odeio-meus-pais-e-riscar-um-fosforo-marion-minerbo-ed-blucher/
LOCATION:Rua Fradique Coutinho\, 915 - Pinheiros\, São Paulo\, São Paulo\, 05416-011\, Brasil
GEO:-23.5592934;-46.6892019
X-APPLE-STRUCTURED-LOCATION;VALUE=URI;X-ADDRESS=Rua Fradique Coutinho 915 - Pinheiros São Paulo São Paulo 05416-011 Brasil;X-APPLE-RADIUS=500;X-TITLE=Rua Fradique Coutinho\, 915 - Pinheiros:geo:-46.6892019,-23.5592934
END:VEVENT
END:VCALENDAR