BEGIN:VCALENDAR
VERSION:2.0
PRODID:-//VILA - Blog - ECPv4.5.12.2//NONSGML v1.0//EN
CALSCALE:GREGORIAN
METHOD:PUBLISH
X-WR-CALNAME:VILA - Blog
X-ORIGINAL-URL:https://blog.livrariadavila.com.br
X-WR-CALDESC:Events for VILA - Blog
BEGIN:VEVENT
DTSTART;TZID=America/Sao_Paulo:20250126T150000
DTEND;TZID=America/Sao_Paulo:20250126T180000
DTSTAMP:20260419T220054
CREATED:20250107T124537Z
LAST-MODIFIED:20250107T124537Z
UID:125599-1737903600-1737914400@blog.livrariadavila.com.br
SUMMARY:PASSAPORTE DE AVENTURAS - JULIANA MINORELLO – ED. INDEPENDENTE
DESCRIPTION: \nO Passaporte de Aventuras é um guia de experiências especialmente elaborado para famílias com crianças e adolescentes. Ele reúne uma variedade de ofertas exclusivas\, permitindo que você descubra descontos incríveis em parques de diversões\, parques aquáticos\, espaços indoor\, fazendinhas\, experiências com animais\, hotéis e resorts\, museus interativos e muito mais! \n
URL:https://blog.livrariadavila.com.br/event/passaporte-de-aventuras-juliana-minorello-ed-independente/
LOCATION:Rua Fradique Coutinho\, 915 - Pinheiros\, São Paulo\, São Paulo\, 05416-011\, Brasil
GEO:-23.5592934;-46.6892019
X-APPLE-STRUCTURED-LOCATION;VALUE=URI;X-ADDRESS=Rua Fradique Coutinho 915 - Pinheiros São Paulo São Paulo 05416-011 Brasil;X-APPLE-RADIUS=500;X-TITLE=Rua Fradique Coutinho\, 915 - Pinheiros:geo:-46.6892019,-23.5592934
END:VEVENT
END:VCALENDAR