BEGIN:VCALENDAR
VERSION:2.0
PRODID:-//VILA - Blog - ECPv4.5.12.2//NONSGML v1.0//EN
CALSCALE:GREGORIAN
METHOD:PUBLISH
X-WR-CALNAME:VILA - Blog
X-ORIGINAL-URL:https://blog.livrariadavila.com.br
X-WR-CALDESC:Events for VILA - Blog
BEGIN:VEVENT
DTSTART;TZID=America/Sao_Paulo:20191214T150000
DTEND;TZID=America/Sao_Paulo:20191214T180000
DTSTAMP:20260421T115800
CREATED:20191206T165306Z
LAST-MODIFIED:20191206T165306Z
UID:107755-1576335600-1576346400@blog.livrariadavila.com.br
SUMMARY:Philip
DESCRIPTION:Philip é um pássaro livre que acabou se perdendo em um de seus passeios. Em um local desconhecido acabou sendo preso e mais tarde enviado em uma gaiola para Chico\, um garoto rico que sofre com o bullyng e o desprezo em seu lar. Este livro traz uma linda história libertadora de dois amigos que vivem em mundos diferentes. \n  \nDe Yara Grottera \nEd. Viva e deixe viver \n
URL:https://blog.livrariadavila.com.br/event/philip/
LOCATION:Av. Higienópolis\, 618 – Higienópolis\, São Paulo\, SP\, 01238-000\, Brasil
GEO:-23.542049;-46.6577148
X-APPLE-STRUCTURED-LOCATION;VALUE=URI;X-ADDRESS=Av. Higienópolis 618 – Higienópolis São Paulo SP 01238-000 Brasil;X-APPLE-RADIUS=500;X-TITLE=Av. Higienópolis\, 618 – Higienópolis:geo:-46.6577148,-23.542049
CATEGORIES:LANÇAMENTOS,SESSÕES DE AUTÓGRAFOS
END:VEVENT
END:VCALENDAR