BEGIN:VCALENDAR
VERSION:2.0
PRODID:-//VILA - Blog - ECPv4.5.12.2//NONSGML v1.0//EN
CALSCALE:GREGORIAN
METHOD:PUBLISH
X-WR-CALNAME:VILA - Blog
X-ORIGINAL-URL:https://blog.livrariadavila.com.br
X-WR-CALDESC:Events for VILA - Blog
BEGIN:VEVENT
DTSTART;TZID=America/Sao_Paulo:20221121T170000
DTEND;TZID=America/Sao_Paulo:20221121T210000
DTSTAMP:20260422T113609
CREATED:20221025T202601Z
LAST-MODIFIED:20221025T202601Z
UID:115781-1669050000-1669064400@blog.livrariadavila.com.br
SUMMARY:PINCELANDO PALAVRAS - CELINE HALLAK - ED. LABRADOR
DESCRIPTION: \n  \n\n\n\n\nNesta antologia\, Celine Hallak compartilha poemas que nos fazem enxergar cor\, emoção\, vida e alívio no cotidiano\, sem se desviar das questões que assolam nossos dias. * Escrever é basicamente se descrever nas entrelinhas. É diluir ansiedades se expondo. Necessidade que mistura sentimentos e questionamentos\, sensações e pensamentos e que deita na folha a pessoal história de vida. É o desafogo através do delicado conto ou da poesia\, da contestação\, da análise de comportamento ou da dissecação de regras e linhas de conduta. Traçados que geram inúmeros testemunhos abrigados entre páginas. Somos nós mostrando feridas e procurando respostas ao exibir com canetas reacionárias\, brancas\, pretas ou coloridas\, um mundo absolutamente particular. Através das letras\, o desabafo\, o desafio\, o crescimento\, o elo para a essencial comunicação de almas.\n\n\n\n\n
URL:https://blog.livrariadavila.com.br/event/pincelando-palavras-celine-hallak-ed-labrador/
LOCATION:Av. Higienópolis\, 618 – Higienópolis\, São Paulo\, SP\, 01238-000\, Brasil
GEO:-23.542049;-46.6577148
X-APPLE-STRUCTURED-LOCATION;VALUE=URI;X-ADDRESS=Av. Higienópolis 618 – Higienópolis São Paulo SP 01238-000 Brasil;X-APPLE-RADIUS=500;X-TITLE=Av. Higienópolis\, 618 – Higienópolis:geo:-46.6577148,-23.542049
END:VEVENT
END:VCALENDAR