BEGIN:VCALENDAR
VERSION:2.0
PRODID:-//VILA - Blog - ECPv4.5.12.2//NONSGML v1.0//EN
CALSCALE:GREGORIAN
METHOD:PUBLISH
X-WR-CALNAME:VILA - Blog
X-ORIGINAL-URL:https://blog.livrariadavila.com.br
X-WR-CALDESC:Events for VILA - Blog
BEGIN:VEVENT
DTSTART;TZID=America/Sao_Paulo:20181005T190000
DTEND;TZID=America/Sao_Paulo:20181005T213000
DTSTAMP:20260422T042024
CREATED:20181001T194507Z
LAST-MODIFIED:20181001T194507Z
UID:22720-1538766000-1538775000@blog.livrariadavila.com.br
SUMMARY:Planeta Ava 3 e O Rei e a Hiena
DESCRIPTION:Na segunda\, Hug foi se diluindo. Ele ainda apareceu\, mas seus relatos foram se tornando mais raros. Na verdade\, um sentido de\ntotalidade foi diluindo a individualidade de Hug\, tornando-o mais fluídico.\nNeste volume\, o personagem assume sua real condição de parte de uma totalidade\, por isso ele aparece pouco\, e pouco é dito sobre ele\, pois\, na verdade\, ele nem mesmo existe fora desse contexto maior.\nA tríade está completa\, formou-se assim a unidade trina ou a trindade una\, e é assim que tem que ser\, desaparecer para se tornar real. \n  \n  \n  \n  \n Risadinha é uma hiena nascida na miséria que luta durante toda a vida por sua sobrevivência e um lugar no mundo; mundo no qual também se encontra o leão Rei Aslam. A insatisfação reinante na sociedade moderna é mostrada por meio da metamorfose da hiena que tenta se transformar em uma leoa\, da mesma forma que o ser humano busca se tornar algo que não é. \n“O Rei e a Hiena” trata de imposição\, manipulação\, força\, ameaça\, vingança\, morte\, medo\, sofrimento\, desespero e\, entre outras questões\, da bestialidade e da incompreensão da realidade do ser humano\, que se misturam a lampejos de intuição e de sabedoria. Em última análise\, esta obra retrata a saga humana na Terra. \nDe Glauco Ramos \nEd. Novo Século \n
URL:https://blog.livrariadavila.com.br/event/planeta-ava-3-e-o-rei-e-a-hiena/
LOCATION:Avenida Ayrton Senna da Silva\, 400 – 2º piso\, Londrina\, Paraná\, 86050-460\, Brasil
CATEGORIES:LANÇAMENTOS,SESSÕES DE AUTÓGRAFOS
END:VEVENT
END:VCALENDAR