BEGIN:VCALENDAR
VERSION:2.0
PRODID:-//VILA - Blog - ECPv4.5.12.2//NONSGML v1.0//EN
CALSCALE:GREGORIAN
METHOD:PUBLISH
X-WR-CALNAME:VILA - Blog
X-ORIGINAL-URL:https://blog.livrariadavila.com.br
X-WR-CALDESC:Events for VILA - Blog
BEGIN:VEVENT
DTSTART;TZID=America/Sao_Paulo:20240717T180000
DTEND;TZID=America/Sao_Paulo:20240717T210000
DTSTAMP:20260421T044256
CREATED:20240715T211817Z
LAST-MODIFIED:20240717T173746Z
UID:123264-1721239200-1721250000@blog.livrariadavila.com.br
SUMMARY:POCUS – POINT OF CARE ULTRASOUND - VITOR MACHADO BENINCÁ\,  THIAGO MARTINS SANTOS\, MARCIO HIDEO DELTREGGIA SAIGA\, RENATO TAMBELLI. RICARDO GALESSO CARDOSO E HÉLIO PENNA GUIMARÃES – ED. DOS EDITORES
DESCRIPTION: \n  \nA ultrassonografi a (USG) é um método não invasivo de extensa utilização por diversas vantagens\, como a ausência de exposição de pacientes e profi ssionais à radioatividade\, sua alta reprodutibilidade\, baixo custo\, praticidade de execução\, portabilidade e auxílio na realização de procedimentos invasivos. Nas últimas décadas\, essa modalidade de procedimento chegou defi nitivamente aos Departamentos de Emergência\, fazendo emergir o termo ultrassonografi a Point of Care (PoCUS) para o vocabulário comum da prática médica diária e para os cursos de capacitação\, treinamento de Educação Médica Permanente\, pesquisa clínica e\, principalmente\, criando uma estreita aproximação com a Medicina de Emergência. Poucas especialidades médicas são tão identifi cadas com a prática diária de POCUS quanto a Medicina de Emergência… quase pode-se dizer que\, nesta especialidade\, esse instrumento substitui o estetoscópio nos mais diversos cenários assistenciais\, como trauma\, desconforto respiratório\, choque\, acessos venosos\, pneumotórax e até parada cardiorrespiratória. trazer a USG para o pré-hospitalar\, Departamentos de Emergência\, beira de leito\, áreas remotas e rotina diária dos cenários de Emergência agregou mais propriedade e identidade ao Emergencista. E fundamental: acrescentou boas práticas clínicas e segurança assistencial. Este volume conseguiu reunir\, em 36 capítulos\, além de 46 autores e seis editores\, Emergencistas de grande experiência no tema\, na fantástica e árdua missão de construir uma obra nacional de referência tanto para os que iniciam seus passos em PoCUS quanto aos já experientes usuários deste método. A boa noticia é: SIM! Todos os que participaram da composição deste livro conseguiram materializar uma obra que refl ete o interesse e as necessidades de aprendizado da Medicina de Emergência brasileira\, além de seu conteúdo estar referenciado pela Associação Brasileira de Medicina de Emergência (ABRAMEDE). Bons estudos a todos os leitores! E que POCUS ocupe cada vez mais papel de relevância no adequado atendimento aos pacientes graves. Eles são nosso foco maior de atenção e cuidado\, sempre! \n
URL:https://blog.livrariadavila.com.br/event/pocus-point-of-care-ultrasound-vitor-machado-beninca-thiago-martins-santos-marcio-hideo-deltreggia-saiga-renato-tambelli-ricardo-galesso-cardoso-e-helio-penna-guimaraes-ed/
LOCATION:Alameda Lorena\, 1501\, São Paulo\, São Paulo\, 01424-005\, Brasil
END:VEVENT
END:VCALENDAR