BEGIN:VCALENDAR
VERSION:2.0
PRODID:-//VILA - Blog - ECPv4.5.12.2//NONSGML v1.0//EN
CALSCALE:GREGORIAN
METHOD:PUBLISH
X-WR-CALNAME:VILA - Blog
X-ORIGINAL-URL:https://blog.livrariadavila.com.br
X-WR-CALDESC:Events for VILA - Blog
BEGIN:VEVENT
DTSTART;TZID=America/Sao_Paulo:20181123T183000
DTEND;TZID=America/Sao_Paulo:20181123T213000
DTSTAMP:20260421T081822
CREATED:20181106T170051Z
LAST-MODIFIED:20181106T170051Z
UID:23350-1542997800-1543008600@blog.livrariadavila.com.br
SUMMARY:Poemas inconstantes
DESCRIPTION: Siomara Spinola é uma poeta múltipla\, transbordante\, feita de trilhas fugidias e palavras que compartilham acalento\, perda e liberdade. Como a própria autora afirma: “Por que ser uma\, por que ter de ser ou não ser se o ser e o não-ser são criaturas inconstantes que coabitam em mim num caos sem começo nem fim?”. Imanentes e inconstantes\, seus poemas refletem essa personalidade de “loba solitária desgarrada da matilha\, livre\, selvagem\, bicho arisco em ronda vigilante\, espreitando territórios\, cautelosa\, nômade por natureza\, estranha incógnita”. Seus versos são de uma grande verdade íntima\, trazem uma sensação de sopro e a possibilidade de usar a poesia como um eco na multidão. \nDe Siomara Spinola \nEd. Jaguatirica \n
URL:https://blog.livrariadavila.com.br/event/poemas-inconstantes/
LOCATION:Av. Higienópolis\, 618 – Higienópolis\, São Paulo\, SP\, 01238-000\, Brasil
GEO:-23.542049;-46.6577148
X-APPLE-STRUCTURED-LOCATION;VALUE=URI;X-ADDRESS=Av. Higienópolis 618 – Higienópolis São Paulo SP 01238-000 Brasil;X-APPLE-RADIUS=500;X-TITLE=Av. Higienópolis\, 618 – Higienópolis:geo:-46.6577148,-23.542049
CATEGORIES:LANÇAMENTOS,SESSÕES DE AUTÓGRAFOS
END:VEVENT
END:VCALENDAR