BEGIN:VCALENDAR
VERSION:2.0
PRODID:-//VILA - Blog - ECPv4.5.12.2//NONSGML v1.0//EN
CALSCALE:GREGORIAN
METHOD:PUBLISH
X-WR-CALNAME:VILA - Blog
X-ORIGINAL-URL:https://blog.livrariadavila.com.br
X-WR-CALDESC:Events for VILA - Blog
BEGIN:VEVENT
DTSTART;TZID=America/Sao_Paulo:20181113T183000
DTEND;TZID=America/Sao_Paulo:20181113T213000
DTSTAMP:20260421T040508
CREATED:20181106T130219Z
LAST-MODIFIED:20181106T130219Z
UID:23296-1542133800-1542144600@blog.livrariadavila.com.br
SUMMARY:Poemúsica
DESCRIPTION:A poética de Paulo César Pinheiro é livre – não conhece limites em questão de matéria-prima. O poeta\, compositor\, romancista e teatrólogo sabe combinar lirismo\, ritmo e rima como poucos. “Poemúsica” é uma obra antropofágica\, melodia versificada em estilo único\, pronta para ser devorada também pelos leitores. \nDe Paulo César Pinheiro \nEd. 7Letras \n
URL:https://blog.livrariadavila.com.br/event/poemusica/
LOCATION:Rua Fradique Coutinho\, 915 - Pinheiros\, São Paulo\, São Paulo\, 05416-011\, Brasil
GEO:-23.5592934;-46.6892019
X-APPLE-STRUCTURED-LOCATION;VALUE=URI;X-ADDRESS=Rua Fradique Coutinho 915 - Pinheiros São Paulo São Paulo 05416-011 Brasil;X-APPLE-RADIUS=500;X-TITLE=Rua Fradique Coutinho\, 915 - Pinheiros:geo:-46.6892019,-23.5592934
CATEGORIES:LANÇAMENTOS,SESSÕES DE AUTÓGRAFOS
END:VEVENT
END:VCALENDAR